BEGIN:VCALENDAR
VERSION:2.0
PRODID:-//NADI Felda Lui Selatan - ECPv6.15.13.1//NONSGML v1.0//EN
CALSCALE:GREGORIAN
METHOD:PUBLISH
X-WR-CALNAME:NADI Felda Lui Selatan
X-ORIGINAL-URL:https://feldaluiselatan.nadi.my
X-WR-CALDESC:Events for NADI Felda Lui Selatan
REFRESH-INTERVAL;VALUE=DURATION:PT1H
X-Robots-Tag:noindex
X-PUBLISHED-TTL:PT1H
BEGIN:VTIMEZONE
TZID:UTC
BEGIN:STANDARD
TZOFFSETFROM:+0000
TZOFFSETTO:+0000
TZNAME:UTC
DTSTART:20230101T000000
END:STANDARD
END:VTIMEZONE
BEGIN:VEVENT
DTSTART;TZID=UTC:20241113T083000
DTEND;TZID=UTC:20241129T130000
DTSTAMP:20260423T165642
CREATED:20241124T012132Z
LAST-MODIFIED:20241124T012132Z
UID:3717-1731486600-1732885200@feldaluiselatan.nadi.my
SUMMARY:TAKLIMAT PENGENALAN NADI (SEKOLAH
DESCRIPTION:
URL:https://feldaluiselatan.nadi.my/event/taklimat-pengenalan-nadi-sekolah/
LOCATION:NaDi FELDA LUI SELATAN
CATEGORIES:DEFAULT
END:VEVENT
END:VCALENDAR