BEGIN:VCALENDAR
VERSION:2.0
PRODID:-//NADI Felda Lui Selatan - ECPv6.15.13.1//NONSGML v1.0//EN
CALSCALE:GREGORIAN
METHOD:PUBLISH
X-ORIGINAL-URL:https://feldaluiselatan.nadi.my
X-WR-CALDESC:Events for NADI Felda Lui Selatan
REFRESH-INTERVAL;VALUE=DURATION:PT1H
X-Robots-Tag:noindex
X-PUBLISHED-TTL:PT1H
BEGIN:VTIMEZONE
TZID:UTC
BEGIN:STANDARD
TZOFFSETFROM:+0000
TZOFFSETTO:+0000
TZNAME:UTC
DTSTART:20230101T000000
END:STANDARD
END:VTIMEZONE
BEGIN:VEVENT
DTSTART;TZID=UTC:20241210T153000
DTEND;TZID=UTC:20241210T163000
DTSTAMP:20260423T172504
CREATED:20241217T014637Z
LAST-MODIFIED:20241217T014637Z
UID:3756-1733844600-1733848200@feldaluiselatan.nadi.my
SUMMARY:NADI DiLea (BAHASA MELAYU)
DESCRIPTION:
URL:https://feldaluiselatan.nadi.my/event/nadi-dilea-bahasa-melayu/
LOCATION:NaDi FELDA LUI SELATAN
END:VEVENT
END:VCALENDAR