BEGIN:VCALENDAR
VERSION:2.0
PRODID:-//NADI Felda Lui Selatan - ECPv6.15.13.1//NONSGML v1.0//EN
CALSCALE:GREGORIAN
METHOD:PUBLISH
X-ORIGINAL-URL:https://feldaluiselatan.nadi.my
X-WR-CALDESC:Events for NADI Felda Lui Selatan
REFRESH-INTERVAL;VALUE=DURATION:PT1H
X-Robots-Tag:noindex
X-PUBLISHED-TTL:PT1H
BEGIN:VTIMEZONE
TZID:Asia/Kuala_Lumpur
BEGIN:STANDARD
TZOFFSETFROM:+0800
TZOFFSETTO:+0800
TZNAME:+08
DTSTART:20240101T000000
END:STANDARD
END:VTIMEZONE
BEGIN:VEVENT
DTSTART;TZID=Asia/Kuala_Lumpur:20250322T093000
DTEND;TZID=Asia/Kuala_Lumpur:20250322T163000
DTSTAMP:20260422T010707
CREATED:20250323T044655Z
LAST-MODIFIED:20250323T044655Z
UID:4057-1742635800-1742661000@feldaluiselatan.nadi.my
SUMMARY:BAZAR RAYA@ NADI 2025
DESCRIPTION:Program Bazar Raya@NADI 2025 yang akan dijalankan di NADI Felda Lui Selatan. Pelbagai jualan kerepek\, kuih muih\, abaya.
URL:https://feldaluiselatan.nadi.my/event/bazar-raya-nadi-2025/
END:VEVENT
END:VCALENDAR