BEGIN:VCALENDAR
VERSION:2.0
PRODID:-//NADI Felda Lui Selatan - ECPv6.15.13.1//NONSGML v1.0//EN
CALSCALE:GREGORIAN
METHOD:PUBLISH
X-WR-CALNAME:NADI Felda Lui Selatan
X-ORIGINAL-URL:https://feldaluiselatan.nadi.my
X-WR-CALDESC:Events for NADI Felda Lui Selatan
REFRESH-INTERVAL;VALUE=DURATION:PT1H
X-Robots-Tag:noindex
X-PUBLISHED-TTL:PT1H
BEGIN:VTIMEZONE
TZID:UTC
BEGIN:STANDARD
TZOFFSETFROM:+0000
TZOFFSETTO:+0000
TZNAME:UTC
DTSTART:20230101T000000
END:STANDARD
END:VTIMEZONE
BEGIN:VEVENT
DTSTART;TZID=UTC:20240405T100000
DTEND;TZID=UTC:20240405T110000
DTSTAMP:20260420T191622
CREATED:20240331T192149Z
LAST-MODIFIED:20240331T192149Z
UID:3568-1712311200-1712314800@feldaluiselatan.nadi.my
SUMMARY:BENGKEL E-KERAJAAN APLIKASI HRMIS 2.0
DESCRIPTION:
URL:https://feldaluiselatan.nadi.my/event/bengkel-e-kerajaan-aplikasi-hrmis-2-0/
LOCATION:NaDi FELDA LUI SELATAN
CATEGORIES:DEFAULT
END:VEVENT
BEGIN:VEVENT
DTSTART;TZID=UTC:20240403T090000
DTEND;TZID=UTC:20240403T100000
DTSTAMP:20260420T191622
CREATED:20240331T191937Z
LAST-MODIFIED:20240331T191937Z
UID:3567-1712134800-1712138400@feldaluiselatan.nadi.my
SUMMARY:BENGKEL E-KERAJAAN PERMOHONAN BANTUAN WARGA EMAS N9 DIGITAL
DESCRIPTION:
URL:https://feldaluiselatan.nadi.my/event/bengkel-e-kerajaan-permohonan-bantuan-warga-emas-n9-digital/
LOCATION:NaDi FELDA LUI SELATAN
CATEGORIES:DEFAULT
END:VEVENT
BEGIN:VEVENT
DTSTART;TZID=UTC:20240402T150000
DTEND;TZID=UTC:20240402T163000
DTSTAMP:20260420T191622
CREATED:20240331T191040Z
LAST-MODIFIED:20240331T191040Z
UID:3566-1712070000-1712075400@feldaluiselatan.nadi.my
SUMMARY:BENGKEL SOFTSKILL-APLIKASI MAE MAYBANK
DESCRIPTION:
URL:https://feldaluiselatan.nadi.my/event/bengkel-softskill-aplikasi-mae-maybank/
LOCATION:NaDi FELDA LUI SELATAN
CATEGORIES:DEFAULT
END:VEVENT
BEGIN:VEVENT
DTSTART;TZID=UTC:20240401T100000
DTEND;TZID=UTC:20240401T130000
DTSTAMP:20260420T191622
CREATED:20240331T190748Z
LAST-MODIFIED:20240331T190748Z
UID:3565-1711965600-1711976400@feldaluiselatan.nadi.my
SUMMARY:KAUNTER TABUNG HAJI BERGERAK
DESCRIPTION:
URL:https://feldaluiselatan.nadi.my/event/kaunter-tabung-haji-bergerak/
LOCATION:NaDi FELDA LUI SELATAN
CATEGORIES:DEFAULT
END:VEVENT
BEGIN:VEVENT
DTSTART;TZID=UTC:20240330T143000
DTEND;TZID=UTC:20240330T153000
DTSTAMP:20260420T191622
CREATED:20240316T171602Z
LAST-MODIFIED:20240316T171602Z
UID:3564-1711809000-1711812600@feldaluiselatan.nadi.my
SUMMARY:ELEARNING MATEMATIK (SPM)
DESCRIPTION:
URL:https://feldaluiselatan.nadi.my/event/elearning-matematik-spm/
LOCATION:NaDi FELDA LUI SELATAN
CATEGORIES:DEFAULT
END:VEVENT
BEGIN:VEVENT
DTSTART;TZID=UTC:20240327T120000
DTEND;TZID=UTC:20240327T130000
DTSTAMP:20260420T191622
CREATED:20240316T171311Z
LAST-MODIFIED:20240316T171311Z
UID:3563-1711540800-1711544400@feldaluiselatan.nadi.my
SUMMARY:SOFT SKILL (RESUME)
DESCRIPTION:
URL:https://feldaluiselatan.nadi.my/event/soft-skill-resume/
LOCATION:NaDi FELDA LUI SELATAN
CATEGORIES:DEFAULT
END:VEVENT
BEGIN:VEVENT
DTSTART;TZID=UTC:20240326T110000
DTEND;TZID=UTC:20240326T120000
DTSTAMP:20260420T191622
CREATED:20240316T171218Z
LAST-MODIFIED:20240316T171218Z
UID:3562-1711450800-1711454400@feldaluiselatan.nadi.my
SUMMARY:SOFT SKILL (KEWANGAN)
DESCRIPTION:
URL:https://feldaluiselatan.nadi.my/event/soft-skill-kewangan/
LOCATION:NaDi FELDA LUI SELATAN
CATEGORIES:DEFAULT
END:VEVENT
BEGIN:VEVENT
DTSTART;TZID=UTC:20240322T150000
DTEND;TZID=UTC:20240322T160000
DTSTAMP:20260420T191622
CREATED:20240316T171029Z
LAST-MODIFIED:20240316T171029Z
UID:3561-1711119600-1711123200@feldaluiselatan.nadi.my
SUMMARY:STEM-IOT (MAZE)
DESCRIPTION:
URL:https://feldaluiselatan.nadi.my/event/stem-iot-maze/
LOCATION:NaDi FELDA LUI SELATAN
CATEGORIES:DEFAULT
END:VEVENT
BEGIN:VEVENT
DTSTART;TZID=UTC:20240318T100000
DTEND;TZID=UTC:20240318T113000
DTSTAMP:20260420T191622
CREATED:20240316T170948Z
LAST-MODIFIED:20240316T170948Z
UID:3560-1710756000-1710761400@feldaluiselatan.nadi.my
SUMMARY:KEUSAHAWANAN
DESCRIPTION:
URL:https://feldaluiselatan.nadi.my/event/keusahawanan/
LOCATION:NaDi FELDA LUI SELATAN
CATEGORIES:DEFAULT
END:VEVENT
BEGIN:VEVENT
DTSTART;TZID=UTC:20240311T100000
DTEND;TZID=UTC:20240311T110000
DTSTAMP:20260420T191622
CREATED:20240316T170840Z
LAST-MODIFIED:20240316T170840Z
UID:3559-1710151200-1710154800@feldaluiselatan.nadi.my
SUMMARY:ICT (MYETPP)
DESCRIPTION:
URL:https://feldaluiselatan.nadi.my/event/ict-myetpp/
LOCATION:NaDi FELDA LUI SELATAN
CATEGORIES:DEFAULT
END:VEVENT
BEGIN:VEVENT
DTSTART;TZID=UTC:20240310T100000
DTEND;TZID=UTC:20240310T110000
DTSTAMP:20260420T191622
CREATED:20240316T170748Z
LAST-MODIFIED:20240316T170748Z
UID:3558-1710064800-1710068400@feldaluiselatan.nadi.my
SUMMARY:E-LEARNING (FAST FINGER)
DESCRIPTION:
URL:https://feldaluiselatan.nadi.my/event/e-learning-fast-finger/
LOCATION:NaDi FELDA LUI SELATAN
CATEGORIES:DEFAULT
END:VEVENT
BEGIN:VEVENT
DTSTART;TZID=UTC:20240309T100000
DTEND;TZID=UTC:20240309T110000
DTSTAMP:20260420T191622
CREATED:20240316T170644Z
LAST-MODIFIED:20240316T170644Z
UID:3557-1709978400-1709982000@feldaluiselatan.nadi.my
SUMMARY:STEM-IOT
DESCRIPTION:
URL:https://feldaluiselatan.nadi.my/event/stem-iot-12/
LOCATION:NaDi FELDA LUI SELATAN
CATEGORIES:DEFAULT
END:VEVENT
BEGIN:VEVENT
DTSTART;TZID=UTC:20240308T150000
DTEND;TZID=UTC:20240308T160000
DTSTAMP:20260420T191622
CREATED:20240316T170556Z
LAST-MODIFIED:20240316T170556Z
UID:3556-1709910000-1709913600@feldaluiselatan.nadi.my
SUMMARY:KEUSAHAWAN-FGV
DESCRIPTION:
URL:https://feldaluiselatan.nadi.my/event/keusahawan-fgv/
LOCATION:NaDi FELDA LUI SELATAN
CATEGORIES:DEFAULT
END:VEVENT
BEGIN:VEVENT
DTSTART;TZID=UTC:20240306T150000
DTEND;TZID=UTC:20240307T160000
DTSTAMP:20260420T191622
CREATED:20240316T170128Z
LAST-MODIFIED:20240316T170128Z
UID:3555-1709737200-1709827200@feldaluiselatan.nadi.my
SUMMARY:KDB
DESCRIPTION:
URL:https://feldaluiselatan.nadi.my/event/kdb-5/
LOCATION:NaDi FELDA LUI SELATAN
CATEGORIES:DEFAULT
END:VEVENT
BEGIN:VEVENT
DTSTART;TZID=UTC:20240305T110000
DTEND;TZID=UTC:20240305T120000
DTSTAMP:20260420T191622
CREATED:20240315T001215Z
LAST-MODIFIED:20240315T001215Z
UID:3551-1709636400-1709640000@feldaluiselatan.nadi.my
SUMMARY:ICT (EROSES
DESCRIPTION:
URL:https://feldaluiselatan.nadi.my/event/ict-eroses/
LOCATION:NaDi FELDA LUI SELATAN
CATEGORIES:DEFAULT
END:VEVENT
BEGIN:VEVENT
DTSTART;TZID=UTC:20240304T150000
DTEND;TZID=UTC:20240304T160000
DTSTAMP:20260420T191622
CREATED:20240316T165256Z
LAST-MODIFIED:20240316T165256Z
UID:3554-1709564400-1709568000@feldaluiselatan.nadi.my
SUMMARY:KEUSAHAWANAN-KEWANGAN
DESCRIPTION:
URL:https://feldaluiselatan.nadi.my/event/keusahawanan-kewangan/
LOCATION:NaDi FELDA LUI SELATAN
CATEGORIES:DEFAULT
END:VEVENT
BEGIN:VEVENT
DTSTART;TZID=UTC:20240304T100000
DTEND;TZID=UTC:20240304T110000
DTSTAMP:20260420T191622
CREATED:20240315T000930Z
LAST-MODIFIED:20240315T000930Z
UID:3550-1709546400-1709550000@feldaluiselatan.nadi.my
SUMMARY:BENGKEL KEUSAHAWANAN (KEWANGAN)
DESCRIPTION:
URL:https://feldaluiselatan.nadi.my/event/bengkel-keusahawanan-kewangan/
LOCATION:NaDi FELDA LUI SELATAN
CATEGORIES:DEFAULT
END:VEVENT
BEGIN:VEVENT
DTSTART;TZID=UTC:20240302T100000
DTEND;TZID=UTC:20240302T120000
DTSTAMP:20260420T191622
CREATED:20240316T165036Z
LAST-MODIFIED:20240316T165036Z
UID:3553-1709373600-1709380800@feldaluiselatan.nadi.my
SUMMARY:STEM-IOT & KDB
DESCRIPTION:
URL:https://feldaluiselatan.nadi.my/event/stem-iot-kdb-3/
LOCATION:NaDi FELDA LUI SELATAN
CATEGORIES:DEFAULT
END:VEVENT
BEGIN:VEVENT
DTSTART;TZID=UTC:20240302T100000
DTEND;TZID=UTC:20240302T110000
DTSTAMP:20260420T191622
CREATED:20240315T000824Z
LAST-MODIFIED:20240315T000824Z
UID:3549-1709373600-1709377200@feldaluiselatan.nadi.my
SUMMARY:STEM-IOT & KDB
DESCRIPTION:
URL:https://feldaluiselatan.nadi.my/event/stem-iot-kdb-2/
LOCATION:NaDi FELDA LUI SELATAN
CATEGORIES:DEFAULT
END:VEVENT
BEGIN:VEVENT
DTSTART;TZID=UTC:20240301T150000
DTEND;TZID=UTC:20240301T170000
DTSTAMP:20260420T191622
CREATED:20240315T000700Z
LAST-MODIFIED:20240315T000700Z
UID:3548-1709305200-1709312400@feldaluiselatan.nadi.my
SUMMARY:E-LEARNING
DESCRIPTION:
URL:https://feldaluiselatan.nadi.my/event/e-learning-2/
LOCATION:NaDi FELDA LUI SELATAN
CATEGORIES:DEFAULT
END:VEVENT
BEGIN:VEVENT
DTSTART;TZID=UTC:20240301T100000
DTEND;TZID=UTC:20240302T120000
DTSTAMP:20260420T191622
CREATED:20240316T164938Z
LAST-MODIFIED:20240316T164938Z
UID:3552-1709287200-1709380800@feldaluiselatan.nadi.my
SUMMARY:E-LEARNING
DESCRIPTION:
URL:https://feldaluiselatan.nadi.my/event/e-learning-3/
LOCATION:NaDi FELDA LUI SELATAN
CATEGORIES:DEFAULT
END:VEVENT
BEGIN:VEVENT
DTSTART;TZID=UTC:20240227T150000
DTEND;TZID=UTC:20240227T170000
DTSTAMP:20260420T191622
CREATED:20240216T210840Z
LAST-MODIFIED:20240216T210840Z
UID:3546-1709046000-1709053200@feldaluiselatan.nadi.my
SUMMARY:BENGKEL KEUSAHAWANAN-PENGENALAN AKAUN
DESCRIPTION:
URL:https://feldaluiselatan.nadi.my/event/bengkel-keusahawanan-pengenalan-akaun/
LOCATION:PEDI Felda Lui Selatan\, PEDI Felda Lui Selatan
CATEGORIES:DEFAULT
END:VEVENT
BEGIN:VEVENT
DTSTART;TZID=UTC:20240224T113000
DTEND;TZID=UTC:20240224T123000
DTSTAMP:20260420T191622
CREATED:20240216T210756Z
LAST-MODIFIED:20240216T210756Z
UID:3545-1708774200-1708777800@feldaluiselatan.nadi.my
SUMMARY:STEM-IOT & KDB
DESCRIPTION:
URL:https://feldaluiselatan.nadi.my/event/stem-iot-kdb/
LOCATION:PEDI Felda Lui Selatan\, PEDI Felda Lui Selatan
CATEGORIES:DEFAULT
END:VEVENT
BEGIN:VEVENT
DTSTART;TZID=UTC:20240222T150000
DTEND;TZID=UTC:20240222T160000
DTSTAMP:20260420T191622
CREATED:20240216T210712Z
LAST-MODIFIED:20240216T210712Z
UID:3544-1708614000-1708617600@feldaluiselatan.nadi.my
SUMMARY:ELEARNING & KLIK DENGAN BIJAK
DESCRIPTION:
URL:https://feldaluiselatan.nadi.my/event/elearning-klik-dengan-bijak/
LOCATION:PEDI Felda Lui Selatan\, PEDI Felda Lui Selatan
CATEGORIES:DEFAULT
END:VEVENT
BEGIN:VEVENT
DTSTART;TZID=UTC:20240218T150000
DTEND;TZID=UTC:20240218T160000
DTSTAMP:20260420T191622
CREATED:20240216T210537Z
LAST-MODIFIED:20240216T210537Z
UID:3543-1708268400-1708272000@feldaluiselatan.nadi.my
SUMMARY:E-LEARNING (WORD SEARCH)
DESCRIPTION:
URL:https://feldaluiselatan.nadi.my/event/e-learning-word-search-5/
LOCATION:PEDI Felda Lui Selatan\, PEDI Felda Lui Selatan
CATEGORIES:DEFAULT
END:VEVENT
BEGIN:VEVENT
DTSTART;TZID=UTC:20240217T150000
DTEND;TZID=UTC:20240217T160000
DTSTAMP:20260420T191622
CREATED:20240216T210441Z
LAST-MODIFIED:20240216T210441Z
UID:3542-1708182000-1708185600@feldaluiselatan.nadi.my
SUMMARY:STEM-IOT
DESCRIPTION:
URL:https://feldaluiselatan.nadi.my/event/stem-iot-11/
LOCATION:PEDI Felda Lui Selatan\, PEDI Felda Lui Selatan
CATEGORIES:DEFAULT
END:VEVENT
BEGIN:VEVENT
DTSTART;TZID=UTC:20240213T110000
DTEND;TZID=UTC:20240213T123000
DTSTAMP:20260420T191622
CREATED:20240216T210321Z
LAST-MODIFIED:20240216T210321Z
UID:3541-1707822000-1707827400@feldaluiselatan.nadi.my
SUMMARY:RESUME WRITING
DESCRIPTION:
URL:https://feldaluiselatan.nadi.my/event/resume-writing-6/
LOCATION:PEDI Felda Lui Selatan\, PEDI Felda Lui Selatan
CATEGORIES:DEFAULT
END:VEVENT
BEGIN:VEVENT
DTSTART;TZID=UTC:20240209T160000
DTEND;TZID=UTC:20240209T173000
DTSTAMP:20260420T191622
CREATED:20240216T210240Z
LAST-MODIFIED:20240216T210240Z
UID:3540-1707494400-1707499800@feldaluiselatan.nadi.my
SUMMARY:KEUSAHAWANAN -SIJIL KEWANGAN
DESCRIPTION:
URL:https://feldaluiselatan.nadi.my/event/keusahawanan-sijil-kewangan/
LOCATION:PEDI Felda Lui Selatan\, PEDI Felda Lui Selatan
CATEGORIES:DEFAULT
END:VEVENT
BEGIN:VEVENT
DTSTART;TZID=UTC:20240205T100000
DTEND;TZID=UTC:20240205T113000
DTSTAMP:20260420T191622
CREATED:20240216T205716Z
LAST-MODIFIED:20240216T205716Z
UID:3539-1707127200-1707132600@feldaluiselatan.nadi.my
SUMMARY:PENDAFTARAN PERSATUAN
DESCRIPTION:
URL:https://feldaluiselatan.nadi.my/event/pendaftaran-persatuan/
LOCATION:PEDI Felda Lui Selatan\, PEDI Felda Lui Selatan
CATEGORIES:DEFAULT
END:VEVENT
BEGIN:VEVENT
DTSTART;TZID=UTC:20240203T153000
DTEND;TZID=UTC:20240203T170000
DTSTAMP:20260420T191622
CREATED:20240216T205544Z
LAST-MODIFIED:20240216T205544Z
UID:3538-1706974200-1706979600@feldaluiselatan.nadi.my
SUMMARY:BENGKEL INTERNET-N9 DIGITAL
DESCRIPTION:
URL:https://feldaluiselatan.nadi.my/event/bengkel-internet-n9-digital/
LOCATION:PEDI Felda Lui Selatan\, PEDI Felda Lui Selatan
CATEGORIES:DEFAULT
END:VEVENT
END:VCALENDAR