BEGIN:VCALENDAR
VERSION:2.0
PRODID:-//NADI Felda Lui Selatan - ECPv6.15.13.1//NONSGML v1.0//EN
CALSCALE:GREGORIAN
METHOD:PUBLISH
X-WR-CALNAME:NADI Felda Lui Selatan
X-ORIGINAL-URL:https://feldaluiselatan.nadi.my
X-WR-CALDESC:Events for NADI Felda Lui Selatan
REFRESH-INTERVAL;VALUE=DURATION:PT1H
X-Robots-Tag:noindex
X-PUBLISHED-TTL:PT1H
BEGIN:VTIMEZONE
TZID:UTC
BEGIN:STANDARD
TZOFFSETFROM:+0000
TZOFFSETTO:+0000
TZNAME:UTC
DTSTART:20220101T000000
END:STANDARD
END:VTIMEZONE
BEGIN:VEVENT
DTSTART;TZID=UTC:20231207T094500
DTEND;TZID=UTC:20231207T130000
DTSTAMP:20260423T212527
CREATED:20231202T224058Z
LAST-MODIFIED:20231202T224058Z
UID:3527-1701942300-1701954000@feldaluiselatan.nadi.my
SUMMARY:BENGKEL KEUSAHAWANAN-LAPORAN BERGAMBAR
DESCRIPTION:
URL:https://feldaluiselatan.nadi.my/event/bengkel-keusahawanan-laporan-bergambar-2/
LOCATION:PEDI Felda Lui Selatan\, PEDI Felda Lui Selatan
CATEGORIES:DEFAULT
END:VEVENT
BEGIN:VEVENT
DTSTART;TZID=UTC:20231204T093000
DTEND;TZID=UTC:20231204T103000
DTSTAMP:20260423T212527
CREATED:20231202T223944Z
LAST-MODIFIED:20231202T223944Z
UID:3526-1701682200-1701685800@feldaluiselatan.nadi.my
SUMMARY:BENGKEL KEUSAHAWAN-CIDB (STB)
DESCRIPTION:
URL:https://feldaluiselatan.nadi.my/event/bengkel-keusahawan-cidb-stb/
LOCATION:PEDI Felda Lui Selatan\, PEDI Felda Lui Selatan
CATEGORIES:DEFAULT
END:VEVENT
BEGIN:VEVENT
DTSTART;TZID=UTC:20231202T100000
DTEND;TZID=UTC:20231202T130000
DTSTAMP:20260423T212527
CREATED:20231202T223743Z
LAST-MODIFIED:20231202T223743Z
UID:3525-1701511200-1701522000@feldaluiselatan.nadi.my
SUMMARY:ELEARNING MATEMATIK
DESCRIPTION:
URL:https://feldaluiselatan.nadi.my/event/elearning-matematik-2/
LOCATION:PEDI Felda Lui Selatan\, PEDI Felda Lui Selatan
CATEGORIES:DEFAULT
END:VEVENT
BEGIN:VEVENT
DTSTART;TZID=UTC:20231201T150000
DTEND;TZID=UTC:20231201T160000
DTSTAMP:20260423T212527
CREATED:20231202T223711Z
LAST-MODIFIED:20231202T223711Z
UID:3524-1701442800-1701446400@feldaluiselatan.nadi.my
SUMMARY:BENGKEL APLIKASI INTERNET-MYETAPP
DESCRIPTION:
URL:https://feldaluiselatan.nadi.my/event/bengkel-aplikasi-internet-myetapp/
LOCATION:PEDI Felda Lui Selatan\, PEDI Felda Lui Selatan
CATEGORIES:DEFAULT
END:VEVENT
BEGIN:VEVENT
DTSTART;TZID=UTC:20231126T150000
DTEND;TZID=UTC:20231126T160000
DTSTAMP:20260423T212527
CREATED:20231105T004434Z
LAST-MODIFIED:20231105T004434Z
UID:3523-1701010800-1701014400@feldaluiselatan.nadi.my
SUMMARY:PERSONALITY SKILL
DESCRIPTION:
URL:https://feldaluiselatan.nadi.my/event/personality-skill/
LOCATION:PEDI Felda Lui Selatan\, PEDI Felda Lui Selatan
CATEGORIES:DEFAULT
END:VEVENT
BEGIN:VEVENT
DTSTART;TZID=UTC:20231125T100000
DTEND;TZID=UTC:20231125T110000
DTSTAMP:20260423T212527
CREATED:20231105T004339Z
LAST-MODIFIED:20231105T004339Z
UID:3522-1700906400-1700910000@feldaluiselatan.nadi.my
SUMMARY:E-LEARNING MATEMATIK
DESCRIPTION:
URL:https://feldaluiselatan.nadi.my/event/e-learning-matematik-3/
LOCATION:PEDI Felda Lui Selatan\, PEDI Felda Lui Selatan
CATEGORIES:DEFAULT
END:VEVENT
BEGIN:VEVENT
DTSTART;TZID=UTC:20231120T100000
DTEND;TZID=UTC:20231120T110000
DTSTAMP:20260423T212527
CREATED:20231105T004231Z
LAST-MODIFIED:20231105T004231Z
UID:3521-1700474400-1700478000@feldaluiselatan.nadi.my
SUMMARY:RESUME WRITING
DESCRIPTION:
URL:https://feldaluiselatan.nadi.my/event/resume-writing-4/
LOCATION:PEDI Felda Lui Selatan\, PEDI Felda Lui Selatan
CATEGORIES:DEFAULT
END:VEVENT
BEGIN:VEVENT
DTSTART;TZID=UTC:20231118T100000
DTEND;TZID=UTC:20231118T110000
DTSTAMP:20260423T212527
CREATED:20231105T004147Z
LAST-MODIFIED:20231105T004147Z
UID:3520-1700301600-1700305200@feldaluiselatan.nadi.my
SUMMARY:E-LEARNING (WORD SEARCH)
DESCRIPTION:
URL:https://feldaluiselatan.nadi.my/event/e-learning-word-search-4/
LOCATION:PEDI Felda Lui Selatan\, PEDI Felda Lui Selatan
CATEGORIES:DEFAULT
END:VEVENT
BEGIN:VEVENT
DTSTART;TZID=UTC:20231117T153000
DTEND;TZID=UTC:20231117T160000
DTSTAMP:20260423T212527
CREATED:20231105T004015Z
LAST-MODIFIED:20231105T004015Z
UID:3519-1700235000-1700236800@feldaluiselatan.nadi.my
SUMMARY:STEM-IOT
DESCRIPTION:
URL:https://feldaluiselatan.nadi.my/event/stem-iot-8/
LOCATION:PEDI Felda Lui Selatan\, PEDI Felda Lui Selatan
CATEGORIES:DEFAULT
END:VEVENT
BEGIN:VEVENT
DTSTART;TZID=UTC:20231114T110000
DTEND;TZID=UTC:20231114T120000
DTSTAMP:20260423T212527
CREATED:20231105T003920Z
LAST-MODIFIED:20231105T003920Z
UID:3518-1699959600-1699963200@feldaluiselatan.nadi.my
SUMMARY:BENGKEL KEUSAHAWAN-BLESS
DESCRIPTION:
URL:https://feldaluiselatan.nadi.my/event/bengkel-keusahawan-bless/
LOCATION:PEDI Felda Lui Selatan\, PEDI Felda Lui Selatan
CATEGORIES:DEFAULT
END:VEVENT
BEGIN:VEVENT
DTSTART;TZID=UTC:20231110T153000
DTEND;TZID=UTC:20231110T170000
DTSTAMP:20260423T212527
CREATED:20231105T003814Z
LAST-MODIFIED:20231105T003814Z
UID:3517-1699630200-1699635600@feldaluiselatan.nadi.my
SUMMARY:STEM-IOT
DESCRIPTION:
URL:https://feldaluiselatan.nadi.my/event/stem-iot-7/
LOCATION:PEDI Felda Lui Selatan\, PEDI Felda Lui Selatan
CATEGORIES:DEFAULT
END:VEVENT
BEGIN:VEVENT
DTSTART;TZID=UTC:20231108T150000
DTEND;TZID=UTC:20231108T170000
DTSTAMP:20260423T212527
CREATED:20231105T003729Z
LAST-MODIFIED:20231105T003729Z
UID:3516-1699455600-1699462800@feldaluiselatan.nadi.my
SUMMARY:BENGKEL KEUSAHAWAN-CIDB
DESCRIPTION:
URL:https://feldaluiselatan.nadi.my/event/bengkel-keusahawan-cidb/
LOCATION:PEDI Felda Lui Selatan\, PEDI Felda Lui Selatan
CATEGORIES:DEFAULT
END:VEVENT
BEGIN:VEVENT
DTSTART;TZID=UTC:20231107T110000
DTEND;TZID=UTC:20231107T130000
DTSTAMP:20260423T212527
CREATED:20231105T001355Z
LAST-MODIFIED:20231105T001355Z
UID:3515-1699354800-1699362000@feldaluiselatan.nadi.my
SUMMARY:BENGKEL KEUSAHAWAN-TENDER
DESCRIPTION:
URL:https://feldaluiselatan.nadi.my/event/bengkel-keusahawan-tender/
LOCATION:PEDI Felda Lui Selatan\, PEDI Felda Lui Selatan
CATEGORIES:DEFAULT
END:VEVENT
BEGIN:VEVENT
DTSTART;TZID=UTC:20231105T150000
DTEND;TZID=UTC:20231105T160000
DTSTAMP:20260423T212527
CREATED:20231105T001219Z
LAST-MODIFIED:20231105T001219Z
UID:3514-1699196400-1699200000@feldaluiselatan.nadi.my
SUMMARY:E-LEARNING JAWI
DESCRIPTION:
URL:https://feldaluiselatan.nadi.my/event/e-learning-jawi/
LOCATION:PEDI Felda Lui Selatan\, PEDI Felda Lui Selatan
CATEGORIES:DEFAULT
END:VEVENT
BEGIN:VEVENT
DTSTART;TZID=UTC:20231104T093000
DTEND;TZID=UTC:20231104T130000
DTSTAMP:20260423T212527
CREATED:20231105T001105Z
LAST-MODIFIED:20231105T001105Z
UID:3513-1699090200-1699102800@feldaluiselatan.nadi.my
SUMMARY:E-LEARNING MATEMATIK
DESCRIPTION:
URL:https://feldaluiselatan.nadi.my/event/e-learning-matematik-2/
LOCATION:PEDI Felda Lui Selatan\, PEDI Felda Lui Selatan
CATEGORIES:DEFAULT
END:VEVENT
BEGIN:VEVENT
DTSTART;TZID=UTC:20231101T100000
DTEND;TZID=UTC:20231101T230000
DTSTAMP:20260423T212527
CREATED:20231105T001014Z
LAST-MODIFIED:20231105T001014Z
UID:3512-1698832800-1698879600@feldaluiselatan.nadi.my
SUMMARY:E-KERAJAAN
DESCRIPTION:
URL:https://feldaluiselatan.nadi.my/event/e-kerajaan/
LOCATION:PEDI Felda Lui Selatan\, PEDI Felda Lui Selatan
CATEGORIES:DEFAULT
END:VEVENT
BEGIN:VEVENT
DTSTART;TZID=UTC:20231028T150000
DTEND;TZID=UTC:20231028T160000
DTSTAMP:20260423T212527
CREATED:20231016T233639Z
LAST-MODIFIED:20231016T233639Z
UID:3511-1698505200-1698508800@feldaluiselatan.nadi.my
SUMMARY:STEM-IOT
DESCRIPTION:
URL:https://feldaluiselatan.nadi.my/event/stem-iot-6/
LOCATION:PEDI Felda Lui Selatan\, PEDI Felda Lui Selatan
CATEGORIES:DEFAULT
END:VEVENT
BEGIN:VEVENT
DTSTART;TZID=UTC:20231026T153000
DTEND;TZID=UTC:20231026T160000
DTSTAMP:20260423T212527
CREATED:20231016T233538Z
LAST-MODIFIED:20231016T233538Z
UID:3510-1698334200-1698336000@feldaluiselatan.nadi.my
SUMMARY:KERJA KURSUS-WORD
DESCRIPTION:
URL:https://feldaluiselatan.nadi.my/event/kerja-kursus-word/
LOCATION:PEDI Felda Lui Selatan\, PEDI Felda Lui Selatan
CATEGORIES:DEFAULT
END:VEVENT
BEGIN:VEVENT
DTSTART;TZID=UTC:20231023T154000
DTEND;TZID=UTC:20231023T170000
DTSTAMP:20260423T212527
CREATED:20231016T233407Z
LAST-MODIFIED:20231016T233407Z
UID:3509-1698075600-1698080400@feldaluiselatan.nadi.my
SUMMARY:DAFTAR SSM
DESCRIPTION:
URL:https://feldaluiselatan.nadi.my/event/daftar-ssm/
LOCATION:PEDI Felda Lui Selatan\, PEDI Felda Lui Selatan
CATEGORIES:DEFAULT
END:VEVENT
BEGIN:VEVENT
DTSTART;TZID=UTC:20231017T143000
DTEND;TZID=UTC:20231017T153000
DTSTAMP:20260423T212527
CREATED:20231016T233248Z
LAST-MODIFIED:20231016T233248Z
UID:3508-1697553000-1697556600@feldaluiselatan.nadi.my
SUMMARY:E-LEARNING (WORD SEARCH)
DESCRIPTION:
URL:https://feldaluiselatan.nadi.my/event/e-learning-word-search-3/
LOCATION:PEDI Felda Lui Selatan\, PEDI Felda Lui Selatan
CATEGORIES:DEFAULT
END:VEVENT
BEGIN:VEVENT
DTSTART;TZID=UTC:20231014T100000
DTEND;TZID=UTC:20231014T130000
DTSTAMP:20260423T212527
CREATED:20231016T233159Z
LAST-MODIFIED:20231016T233159Z
UID:3507-1697277600-1697288400@feldaluiselatan.nadi.my
SUMMARY:STEM-IOT
DESCRIPTION:
URL:https://feldaluiselatan.nadi.my/event/stem-iot-5/
LOCATION:PEDI Felda Lui Selatan\, PEDI Felda Lui Selatan
CATEGORIES:DEFAULT
END:VEVENT
BEGIN:VEVENT
DTSTART;TZID=UTC:20231011T153000
DTEND;TZID=UTC:20231011T163000
DTSTAMP:20260423T212527
CREATED:20231016T232613Z
LAST-MODIFIED:20231016T232613Z
UID:3506-1697038200-1697041800@feldaluiselatan.nadi.my
SUMMARY:CIDB (STB)
DESCRIPTION:
URL:https://feldaluiselatan.nadi.my/event/cidb-stb/
LOCATION:PEDI Felda Lui Selatan\, PEDI Felda Lui Selatan
CATEGORIES:DEFAULT
END:VEVENT
BEGIN:VEVENT
DTSTART;TZID=UTC:20231009T030000
DTEND;TZID=UTC:20231009T153000
DTSTAMP:20260423T212527
CREATED:20231011T230059Z
LAST-MODIFIED:20231011T230059Z
UID:3505-1696820400-1696865400@feldaluiselatan.nadi.my
SUMMARY:EVENDOR FELDA
DESCRIPTION:
URL:https://feldaluiselatan.nadi.my/event/evendor-felda/
LOCATION:PEDI Felda Lui Selatan\, PEDI Felda Lui Selatan
CATEGORIES:DEFAULT
END:VEVENT
BEGIN:VEVENT
DTSTART;TZID=UTC:20231007T100000
DTEND;TZID=UTC:20231007T110000
DTSTAMP:20260423T212527
CREATED:20231011T225107Z
LAST-MODIFIED:20231011T225107Z
UID:3504-1696672800-1696676400@feldaluiselatan.nadi.my
SUMMARY:STEM-IOT
DESCRIPTION:
URL:https://feldaluiselatan.nadi.my/event/stem-iot-4/
LOCATION:PEDI Felda Lui Selatan\, PEDI Felda Lui Selatan
CATEGORIES:DEFAULT
END:VEVENT
BEGIN:VEVENT
DTSTART;TZID=UTC:20231006T140000
DTEND;TZID=UTC:20231006T153000
DTSTAMP:20260423T212527
CREATED:20231011T225022Z
LAST-MODIFIED:20231011T225022Z
UID:3503-1696600800-1696606200@feldaluiselatan.nadi.my
SUMMARY:MICROSOFT WORD-KERTAS KERJA
DESCRIPTION:
URL:https://feldaluiselatan.nadi.my/event/microsoft-word-kertas-kerja/
LOCATION:PEDI Felda Lui Selatan\, PEDI Felda Lui Selatan
CATEGORIES:DEFAULT
END:VEVENT
BEGIN:VEVENT
DTSTART;TZID=UTC:20231004T150000
DTEND;TZID=UTC:20231004T170000
DTSTAMP:20260423T212527
CREATED:20231011T224918Z
LAST-MODIFIED:20231011T224918Z
UID:3502-1696431600-1696438800@feldaluiselatan.nadi.my
SUMMARY:KEUSAHAWANAN-BLISS
DESCRIPTION:
URL:https://feldaluiselatan.nadi.my/event/keusahawanan-bliss/
LOCATION:PEDI Felda Lui Selatan\, PEDI Felda Lui Selatan
CATEGORIES:DEFAULT
END:VEVENT
BEGIN:VEVENT
DTSTART;TZID=UTC:20231001T100000
DTEND;TZID=UTC:20231001T120000
DTSTAMP:20260423T212527
CREATED:20231011T224646Z
LAST-MODIFIED:20231011T224646Z
UID:3501-1696154400-1696161600@feldaluiselatan.nadi.my
SUMMARY:TUISYEN MATEMATIK
DESCRIPTION:
URL:https://feldaluiselatan.nadi.my/event/tuisyen-matematik-2/
LOCATION:PEDI Felda Lui Selatan\, PEDI Felda Lui Selatan
CATEGORIES:DEFAULT
END:VEVENT
BEGIN:VEVENT
DTSTART;TZID=UTC:20230925T100000
DTEND;TZID=UTC:20230925T110000
DTSTAMP:20260423T212527
CREATED:20230907T202451Z
LAST-MODIFIED:20230907T202451Z
UID:3500-1695636000-1695639600@feldaluiselatan.nadi.my
SUMMARY:MYDATA SSM
DESCRIPTION:
URL:https://feldaluiselatan.nadi.my/event/mydata-ssm/
LOCATION:PEDI Felda Lui Selatan\, PEDI Felda Lui Selatan
CATEGORIES:DEFAULT
END:VEVENT
BEGIN:VEVENT
DTSTART;TZID=UTC:20230924T150000
DTEND;TZID=UTC:20230924T160000
DTSTAMP:20260423T212527
CREATED:20230907T202318Z
LAST-MODIFIED:20230907T202318Z
UID:3499-1695567600-1695571200@feldaluiselatan.nadi.my
SUMMARY:E-LEARNING (WORD SEARCH)
DESCRIPTION:
URL:https://feldaluiselatan.nadi.my/event/e-learning-word-search-2/
LOCATION:PEDI Felda Lui Selatan\, PEDI Felda Lui Selatan
CATEGORIES:DEFAULT
END:VEVENT
BEGIN:VEVENT
DTSTART;TZID=UTC:20230921T110000
DTEND;TZID=UTC:20230921T120000
DTSTAMP:20260423T212527
CREATED:20230907T202216Z
LAST-MODIFIED:20230907T202216Z
UID:3498-1695294000-1695297600@feldaluiselatan.nadi.my
SUMMARY:APLIKASI INTERNET BANKING
DESCRIPTION:
URL:https://feldaluiselatan.nadi.my/event/aplikasi-internet-banking-2/
LOCATION:PEDI Felda Lui Selatan\, PEDI Felda Lui Selatan
CATEGORIES:DEFAULT
END:VEVENT
END:VCALENDAR