BEGIN:VCALENDAR
VERSION:2.0
PRODID:-//NADI Felda Lui Selatan - ECPv6.15.13.1//NONSGML v1.0//EN
CALSCALE:GREGORIAN
METHOD:PUBLISH
X-WR-CALNAME:NADI Felda Lui Selatan
X-ORIGINAL-URL:https://feldaluiselatan.nadi.my
X-WR-CALDESC:Events for NADI Felda Lui Selatan
REFRESH-INTERVAL;VALUE=DURATION:PT1H
X-Robots-Tag:noindex
X-PUBLISHED-TTL:PT1H
BEGIN:VTIMEZONE
TZID:UTC
BEGIN:STANDARD
TZOFFSETFROM:+0000
TZOFFSETTO:+0000
TZNAME:UTC
DTSTART:20220101T000000
END:STANDARD
END:VTIMEZONE
BEGIN:VEVENT
DTSTART;TZID=UTC:20230816T150000
DTEND;TZID=UTC:20230816T160000
DTSTAMP:20260424T192239
CREATED:20230805T200921Z
LAST-MODIFIED:20230805T200921Z
UID:3487-1692198000-1692201600@feldaluiselatan.nadi.my
SUMMARY:STEM-IOT
DESCRIPTION:
URL:https://feldaluiselatan.nadi.my/event/stem-iot-2/
LOCATION:PEDI Felda Lui Selatan\, PEDI Felda Lui Selatan
CATEGORIES:DEFAULT
END:VEVENT
BEGIN:VEVENT
DTSTART;TZID=UTC:20230814T150000
DTEND;TZID=UTC:20230814T163000
DTSTAMP:20260424T192239
CREATED:20230805T200847Z
LAST-MODIFIED:20230805T200847Z
UID:3486-1692025200-1692030600@feldaluiselatan.nadi.my
SUMMARY:E-LEARNING MATEMATIK
DESCRIPTION:
URL:https://feldaluiselatan.nadi.my/event/e-learning-matematik/
LOCATION:PEDI Felda Lui Selatan\, PEDI Felda Lui Selatan
CATEGORIES:DEFAULT
END:VEVENT
BEGIN:VEVENT
DTSTART;TZID=UTC:20230811T103000
DTEND;TZID=UTC:20230811T113000
DTSTAMP:20260424T192239
CREATED:20230805T200809Z
LAST-MODIFIED:20230805T200809Z
UID:3485-1691749800-1691753400@feldaluiselatan.nadi.my
SUMMARY:PENGURUSAN KEWANGAN (TEKUN)
DESCRIPTION:
URL:https://feldaluiselatan.nadi.my/event/pengurusan-kewangan-tekun/
LOCATION:PEDI Felda Lui Selatan\, PEDI Felda Lui Selatan
CATEGORIES:DEFAULT
END:VEVENT
BEGIN:VEVENT
DTSTART;TZID=UTC:20230807T143000
DTEND;TZID=UTC:20230807T153000
DTSTAMP:20260424T192239
CREATED:20230805T200711Z
LAST-MODIFIED:20230805T200711Z
UID:3484-1691418600-1691422200@feldaluiselatan.nadi.my
SUMMARY:APLIKASI INTERNET-KWSP
DESCRIPTION:
URL:https://feldaluiselatan.nadi.my/event/aplikasi-internet-kwsp-2/
LOCATION:PEDI Felda Lui Selatan\, PEDI Felda Lui Selatan
CATEGORIES:DEFAULT
END:VEVENT
BEGIN:VEVENT
DTSTART;TZID=UTC:20230806T103000
DTEND;TZID=UTC:20230806T113000
DTSTAMP:20260424T192239
CREATED:20230805T200601Z
LAST-MODIFIED:20230805T200601Z
UID:3483-1691317800-1691321400@feldaluiselatan.nadi.my
SUMMARY:BENGKEL KEUSAHAWANAN-PEMBAHARUAN CIDB
DESCRIPTION:
URL:https://feldaluiselatan.nadi.my/event/bengkel-keusahawanan-pembaharuan-cidb-2/
LOCATION:PEDI Felda Lui Selatan\, PEDI Felda Lui Selatan
CATEGORIES:DEFAULT
END:VEVENT
BEGIN:VEVENT
DTSTART;TZID=UTC:20230805T083000
DTEND;TZID=UTC:20230805T180000
DTSTAMP:20260424T192239
CREATED:20230805T200446Z
LAST-MODIFIED:20230805T200446Z
UID:3482-1691224200-1691258400@feldaluiselatan.nadi.my
SUMMARY:BENGKEL KEUSAHAWANAN- CONTENT MARKETING MYSTERY
DESCRIPTION:
URL:https://feldaluiselatan.nadi.my/event/bengkel-keusahawanan-content-marketing-mystery/
LOCATION:PEDI Felda Lui Selatan\, PEDI Felda Lui Selatan
CATEGORIES:DEFAULT
END:VEVENT
BEGIN:VEVENT
DTSTART;TZID=UTC:20230804T153000
DTEND;TZID=UTC:20230804T160000
DTSTAMP:20260424T192239
CREATED:20230805T200343Z
LAST-MODIFIED:20230805T200343Z
UID:3481-1691163000-1691164800@feldaluiselatan.nadi.my
SUMMARY:BENGKEL KEUSAHAWAN-PERBANKAN DALAM TALIAN
DESCRIPTION:
URL:https://feldaluiselatan.nadi.my/event/bengkel-keusahawan-perbankan-dalam-talian/
LOCATION:PEDI Felda Lui Selatan\, PEDI Felda Lui Selatan
CATEGORIES:DEFAULT
END:VEVENT
BEGIN:VEVENT
DTSTART;TZID=UTC:20230802T150000
DTEND;TZID=UTC:20230802T160000
DTSTAMP:20260424T192239
CREATED:20230805T200239Z
LAST-MODIFIED:20230805T200239Z
UID:3480-1690988400-1690992000@feldaluiselatan.nadi.my
SUMMARY:STEM-IOT
DESCRIPTION:
URL:https://feldaluiselatan.nadi.my/event/stem-iot/
LOCATION:PEDI Felda Lui Selatan\, PEDI Felda Lui Selatan
CATEGORIES:DEFAULT
END:VEVENT
BEGIN:VEVENT
DTSTART;TZID=UTC:20230728T150000
DTEND;TZID=UTC:20230728T160000
DTSTAMP:20260424T192239
CREATED:20230717T012112Z
LAST-MODIFIED:20230717T012112Z
UID:3479-1690556400-1690560000@feldaluiselatan.nadi.my
SUMMARY:KLIK DENGAN BIJAK
DESCRIPTION:
URL:https://feldaluiselatan.nadi.my/event/klik-dengan-bijak-15/
LOCATION:PEDI Felda Lui Selatan\, PEDI Felda Lui Selatan
CATEGORIES:DEFAULT
END:VEVENT
BEGIN:VEVENT
DTSTART;TZID=UTC:20230726T110000
DTEND;TZID=UTC:20230726T120000
DTSTAMP:20260424T192239
CREATED:20230717T012035Z
LAST-MODIFIED:20230717T012035Z
UID:3478-1690369200-1690372800@feldaluiselatan.nadi.my
SUMMARY:MINDSET USAHAWAN
DESCRIPTION:
URL:https://feldaluiselatan.nadi.my/event/mindset-usahawan/
LOCATION:GOOGLE MEET\, GOOGLE MEET
CATEGORIES:DEFAULT
END:VEVENT
BEGIN:VEVENT
DTSTART;TZID=UTC:20230718T110000
DTEND;TZID=UTC:20230718T120000
DTSTAMP:20260424T192239
CREATED:20230717T011855Z
LAST-MODIFIED:20230717T011855Z
UID:3477-1689678000-1689681600@feldaluiselatan.nadi.my
SUMMARY:PERSONAL GROOMING
DESCRIPTION:
URL:https://feldaluiselatan.nadi.my/event/personal-grooming/
LOCATION:GOOGLE MEET\, GOOGLE MEET
CATEGORIES:DEFAULT
END:VEVENT
BEGIN:VEVENT
DTSTART;TZID=UTC:20230717T110000
DTEND;TZID=UTC:20230717T120000
DTSTAMP:20260424T192239
CREATED:20230717T011704Z
LAST-MODIFIED:20230717T011704Z
UID:3476-1689591600-1689595200@feldaluiselatan.nadi.my
SUMMARY:PENGURUSAN KEWANGAN IKS
DESCRIPTION:
URL:https://feldaluiselatan.nadi.my/event/pengurusan-kewangan-iks-2/
LOCATION:GOOGLE MEET\, GOOGLE MEET
CATEGORIES:DEFAULT
END:VEVENT
BEGIN:VEVENT
DTSTART;TZID=UTC:20230714T110000
DTEND;TZID=UTC:20230714T120000
DTSTAMP:20260424T192239
CREATED:20230717T003922Z
LAST-MODIFIED:20230717T003922Z
UID:3475-1689332400-1689336000@feldaluiselatan.nadi.my
SUMMARY:RESUME WRITING
DESCRIPTION:
URL:https://feldaluiselatan.nadi.my/event/resume-writing-2/
LOCATION:PEDI Felda Lui Selatan\, PEDI Felda Lui Selatan
CATEGORIES:DEFAULT
END:VEVENT
BEGIN:VEVENT
DTSTART;TZID=UTC:20230711T090000
DTEND;TZID=UTC:20230711T170000
DTSTAMP:20260424T192239
CREATED:20230717T003827Z
LAST-MODIFIED:20230717T003827Z
UID:3474-1689066000-1689094800@feldaluiselatan.nadi.my
SUMMARY:INTERVIEW SKILL
DESCRIPTION:
URL:https://feldaluiselatan.nadi.my/event/interview-skill-2/
LOCATION:GOOGLE MEET\, GOOGLE MEET
CATEGORIES:DEFAULT
END:VEVENT
BEGIN:VEVENT
DTSTART;TZID=UTC:20230706T110000
DTEND;TZID=UTC:20230706T113000
DTSTAMP:20260424T192239
CREATED:20230717T003650Z
LAST-MODIFIED:20230717T003650Z
UID:3473-1688641200-1688643000@feldaluiselatan.nadi.my
SUMMARY:APLIKASI INTERNET-STR
DESCRIPTION:
URL:https://feldaluiselatan.nadi.my/event/aplikasi-internet-str/
LOCATION:PEDI Felda Lui Selatan\, PEDI Felda Lui Selatan
CATEGORIES:DEFAULT
END:VEVENT
BEGIN:VEVENT
DTSTART;TZID=UTC:20230704T143000
DTEND;TZID=UTC:20230704T150000
DTSTAMP:20260424T192239
CREATED:20230717T003554Z
LAST-MODIFIED:20230717T003554Z
UID:3472-1688481000-1688482800@feldaluiselatan.nadi.my
SUMMARY:APLIKASI INTERNET-KWSP
DESCRIPTION:
URL:https://feldaluiselatan.nadi.my/event/aplikasi-internet-kwsp/
LOCATION:PEDI Felda Lui Selatan\, PEDI Felda Lui Selatan
CATEGORIES:DEFAULT
END:VEVENT
BEGIN:VEVENT
DTSTART;TZID=UTC:20230701T100000
DTEND;TZID=UTC:20230701T110000
DTSTAMP:20260424T192239
CREATED:20230717T003508Z
LAST-MODIFIED:20230717T003508Z
UID:3471-1688205600-1688209200@feldaluiselatan.nadi.my
SUMMARY:BENGKEL KEUSAHAWANAN-MYDATA SSM
DESCRIPTION:
URL:https://feldaluiselatan.nadi.my/event/bengkel-keusahawanan-mydata-ssm/
LOCATION:PEDI Felda Lui Selatan\, PEDI Felda Lui Selatan
CATEGORIES:DEFAULT
END:VEVENT
BEGIN:VEVENT
DTSTART;TZID=UTC:20230627T110000
DTEND;TZID=UTC:20230627T120000
DTSTAMP:20260424T192239
CREATED:20230612T004204Z
LAST-MODIFIED:20230612T004204Z
UID:3470-1687863600-1687867200@feldaluiselatan.nadi.my
SUMMARY:PANDUAN UNDANG-UNDANG IKS
DESCRIPTION:
URL:https://feldaluiselatan.nadi.my/event/panduan-undang-undang-iks/
LOCATION:PEDI Felda Lui Selatan\, PEDI Felda Lui Selatan
CATEGORIES:DEFAULT
END:VEVENT
BEGIN:VEVENT
DTSTART;TZID=UTC:20230622T110000
DTEND;TZID=UTC:20230622T120000
DTSTAMP:20260424T192239
CREATED:20230612T004119Z
LAST-MODIFIED:20230612T004119Z
UID:3469-1687431600-1687435200@feldaluiselatan.nadi.my
SUMMARY:INTERVIEW SKILL
DESCRIPTION:
URL:https://feldaluiselatan.nadi.my/event/interview-skill/
LOCATION:PEDI Felda Lui Selatan\, PEDI Felda Lui Selatan
CATEGORIES:DEFAULT
END:VEVENT
BEGIN:VEVENT
DTSTART;TZID=UTC:20230620T110000
DTEND;TZID=UTC:20230620T120000
DTSTAMP:20260424T192239
CREATED:20230612T004045Z
LAST-MODIFIED:20230612T004045Z
UID:3468-1687258800-1687262400@feldaluiselatan.nadi.my
SUMMARY:RESUME WRITING
DESCRIPTION:
URL:https://feldaluiselatan.nadi.my/event/resume-writing/
LOCATION:PEDI Felda Lui Selatan\, PEDI Felda Lui Selatan
CATEGORIES:DEFAULT
END:VEVENT
BEGIN:VEVENT
DTSTART;TZID=UTC:20230615T110000
DTEND;TZID=UTC:20230615T120000
DTSTAMP:20260424T192239
CREATED:20230611T231324Z
LAST-MODIFIED:20230611T231324Z
UID:3467-1686826800-1686830400@feldaluiselatan.nadi.my
SUMMARY:TIP PENGURUSAN SUMBER MANUSIA
DESCRIPTION:
URL:https://feldaluiselatan.nadi.my/event/tip-pengurusan-sumber-manusia/
LOCATION:GOOGLE MEET\, GOOGLE MEET
CATEGORIES:DEFAULT
END:VEVENT
BEGIN:VEVENT
DTSTART;TZID=UTC:20230613T110000
DTEND;TZID=UTC:20230613T120000
DTSTAMP:20260424T192239
CREATED:20230611T231206Z
LAST-MODIFIED:20230611T231206Z
UID:3465-1686654000-1686657600@feldaluiselatan.nadi.my
SUMMARY:PENGURUSAN KEWANGAN IKS
DESCRIPTION:
URL:https://feldaluiselatan.nadi.my/event/pengurusan-kewangan-iks/
LOCATION:PEDI Felda Lui Selatan\, PEDI Felda Lui Selatan
CATEGORIES:DEFAULT
END:VEVENT
BEGIN:VEVENT
DTSTART;TZID=UTC:20230608T100000
DTEND;TZID=UTC:20230608T113000
DTSTAMP:20260424T192239
CREATED:20230611T231114Z
LAST-MODIFIED:20230611T231114Z
UID:3464-1686218400-1686223800@feldaluiselatan.nadi.my
SUMMARY:APLIKASI INTERNET MYETAPP
DESCRIPTION:
URL:https://feldaluiselatan.nadi.my/event/aplikasi-internet-myetapp/
LOCATION:PEDI Felda Lui Selatan\, PEDI Felda Lui Selatan
CATEGORIES:DEFAULT
END:VEVENT
BEGIN:VEVENT
DTSTART;TZID=UTC:20230605T090000
DTEND;TZID=UTC:20230605T120000
DTSTAMP:20260424T192239
CREATED:20230611T230122Z
LAST-MODIFIED:20230611T230122Z
UID:3463-1685955600-1685966400@feldaluiselatan.nadi.my
SUMMARY:APLIKASI INTERNET BANKING
DESCRIPTION:
URL:https://feldaluiselatan.nadi.my/event/aplikasi-internet-banking/
LOCATION:PEDI Felda Lui Selatan\, PEDI Felda Lui Selatan
CATEGORIES:DEFAULT
END:VEVENT
BEGIN:VEVENT
DTSTART;TZID=UTC:20230602T090000
DTEND;TZID=UTC:20230602T113000
DTSTAMP:20260424T192239
CREATED:20230611T225959Z
LAST-MODIFIED:20230611T225959Z
UID:3462-1685696400-1685705400@feldaluiselatan.nadi.my
SUMMARY:FORUM & PRESENTATION SKILL
DESCRIPTION:
URL:https://feldaluiselatan.nadi.my/event/forum-presentation-skill/
LOCATION:PEDI Felda Lui Selatan\, PEDI Felda Lui Selatan
CATEGORIES:DEFAULT
END:VEVENT
BEGIN:VEVENT
DTSTART;TZID=UTC:20230526T150000
DTEND;TZID=UTC:20230526T153000
DTSTAMP:20260424T192239
CREATED:20230510T224949Z
LAST-MODIFIED:20230510T224949Z
UID:3461-1685113200-1685115000@feldaluiselatan.nadi.my
SUMMARY:KLIK DENGAN BIJAK
DESCRIPTION:
URL:https://feldaluiselatan.nadi.my/event/klik-dengan-bijak-14/
LOCATION:WHATSAPP\, WHATSAPP
CATEGORIES:DEFAULT
END:VEVENT
BEGIN:VEVENT
DTSTART;TZID=UTC:20230520T151500
DTEND;TZID=UTC:20230520T161500
DTSTAMP:20260424T192239
CREATED:20230510T224912Z
LAST-MODIFIED:20230510T224912Z
UID:3460-1684595700-1684599300@feldaluiselatan.nadi.my
SUMMARY:BENGKEL APLIKASI KEUSAHAWAN-TIKTOK SHOP
DESCRIPTION:
URL:https://feldaluiselatan.nadi.my/event/bengkel-aplikasi-keusahawan-tiktok-shop/
LOCATION:PEDI Felda Lui Selatan\, PEDI Felda Lui Selatan
CATEGORIES:DEFAULT
END:VEVENT
BEGIN:VEVENT
DTSTART;TZID=UTC:20230515T151500
DTEND;TZID=UTC:20230515T161500
DTSTAMP:20260424T192239
CREATED:20230510T224824Z
LAST-MODIFIED:20230510T224824Z
UID:3459-1684163700-1684167300@feldaluiselatan.nadi.my
SUMMARY:BENGKEL KEUSAHAWANAN-PERNDAFTARAN PERNIAGAAN
DESCRIPTION:
URL:https://feldaluiselatan.nadi.my/event/bengkel-keusahawanan-perndaftaran-perniagaan/
LOCATION:PEDI Felda Lui Selatan\, PEDI Felda Lui Selatan
CATEGORIES:DEFAULT
END:VEVENT
BEGIN:VEVENT
DTSTART;TZID=UTC:20230509T100000
DTEND;TZID=UTC:20230509T110000
DTSTAMP:20260424T192239
CREATED:20230510T224647Z
LAST-MODIFIED:20230510T224647Z
UID:3458-1683626400-1683630000@feldaluiselatan.nadi.my
SUMMARY:BENGKEL KEUSAHAWANAN-LAPORAN BERGAMBAR
DESCRIPTION:
URL:https://feldaluiselatan.nadi.my/event/bengkel-keusahawanan-laporan-bergambar/
LOCATION:PEDI Felda Lui Selatan\, PEDI Felda Lui Selatan
CATEGORIES:DEFAULT
END:VEVENT
BEGIN:VEVENT
DTSTART;TZID=UTC:20230505T030000
DTEND;TZID=UTC:20230505T163000
DTSTAMP:20260424T192239
CREATED:20230510T224441Z
LAST-MODIFIED:20230510T224441Z
UID:3457-1683255600-1683304200@feldaluiselatan.nadi.my
SUMMARY:BENGKEL APLIKASI INTERNET-PUSPAKOM
DESCRIPTION:
URL:https://feldaluiselatan.nadi.my/event/bengkel-aplikasi-internet-puspakom/
LOCATION:PEDI Felda Lui Selatan\, PEDI Felda Lui Selatan
CATEGORIES:DEFAULT
END:VEVENT
END:VCALENDAR