BEGIN:VCALENDAR
VERSION:2.0
PRODID:-//NADI Felda Lui Selatan - ECPv6.15.13.1//NONSGML v1.0//EN
CALSCALE:GREGORIAN
METHOD:PUBLISH
X-WR-CALNAME:NADI Felda Lui Selatan
X-ORIGINAL-URL:https://feldaluiselatan.nadi.my
X-WR-CALDESC:Events for NADI Felda Lui Selatan
REFRESH-INTERVAL;VALUE=DURATION:PT1H
X-Robots-Tag:noindex
X-PUBLISHED-TTL:PT1H
BEGIN:VTIMEZONE
TZID:UTC
BEGIN:STANDARD
TZOFFSETFROM:+0000
TZOFFSETTO:+0000
TZNAME:UTC
DTSTART:20210101T000000
END:STANDARD
END:VTIMEZONE
BEGIN:VEVENT
DTSTART;TZID=UTC:20230307T100000
DTEND;TZID=UTC:20230307T110000
DTSTAMP:20260426T052846
CREATED:20230319T000046Z
LAST-MODIFIED:20230319T000046Z
UID:3446-1678183200-1678186800@feldaluiselatan.nadi.my
SUMMARY:BENGKEL APLIKASI INTERNET-KEMASKINI SUMBANGAN TUNAI RAHMAH
DESCRIPTION:
URL:https://feldaluiselatan.nadi.my/event/bengkel-aplikasi-internet-kemaskini-sumbangan-tunai-rahmah/
LOCATION:PEDI Felda Lui Selatan\, PEDI Felda Lui Selatan
CATEGORIES:DEFAULT
END:VEVENT
BEGIN:VEVENT
DTSTART;TZID=UTC:20230303T150000
DTEND;TZID=UTC:20230303T163000
DTSTAMP:20260426T052846
CREATED:20230318T235941Z
LAST-MODIFIED:20230318T235941Z
UID:3445-1677855600-1677861000@feldaluiselatan.nadi.my
SUMMARY:BENGKEL KEUSAHAWAN-PERMOHONAN TUNS
DESCRIPTION:
URL:https://feldaluiselatan.nadi.my/event/bengkel-keusahawan-permohonan-tuns/
LOCATION:PEDI Felda Lui Selatan\, PEDI Felda Lui Selatan
CATEGORIES:DEFAULT
END:VEVENT
BEGIN:VEVENT
DTSTART;TZID=UTC:20230224T100000
DTEND;TZID=UTC:20230224T113000
DTSTAMP:20260426T052846
CREATED:20230208T234321Z
LAST-MODIFIED:20230208T234321Z
UID:3444-1677232800-1677238200@feldaluiselatan.nadi.my
SUMMARY:BENGKEL LANJUTAN APLIKASI KOMPUTER
DESCRIPTION:
URL:https://feldaluiselatan.nadi.my/event/bengkel-lanjutan-aplikasi-komputer/
LOCATION:PEDI Felda Lui Selatan\, PEDI Felda Lui Selatan
CATEGORIES:DEFAULT
END:VEVENT
BEGIN:VEVENT
DTSTART;TZID=UTC:20230219T113000
DTEND;TZID=UTC:20230219T120000
DTSTAMP:20260426T052846
CREATED:20230208T234243Z
LAST-MODIFIED:20230208T234243Z
UID:3443-1676806200-1676808000@feldaluiselatan.nadi.my
SUMMARY:BENGKEL KEUSAHAWANAN-PEMBAHARUAN SSM
DESCRIPTION:
URL:https://feldaluiselatan.nadi.my/event/bengkel-keusahawanan-pembaharuan-ssm/
LOCATION:PEDI Felda Lui Selatan\, PEDI Felda Lui Selatan
CATEGORIES:DEFAULT
END:VEVENT
BEGIN:VEVENT
DTSTART;TZID=UTC:20230214T153000
DTEND;TZID=UTC:20230214T163000
DTSTAMP:20260426T052846
CREATED:20230208T234203Z
LAST-MODIFIED:20230208T234203Z
UID:3442-1676388600-1676392200@feldaluiselatan.nadi.my
SUMMARY:KLIK DENGAN BIJAK-MOBILE E WASTE
DESCRIPTION:
URL:https://feldaluiselatan.nadi.my/event/klik-dengan-bijak-mobile-e-waste/
LOCATION:PEDI Felda Lui Selatan\, PEDI Felda Lui Selatan
CATEGORIES:DEFAULT
END:VEVENT
BEGIN:VEVENT
DTSTART;TZID=UTC:20230209T141500
DTEND;TZID=UTC:20230209T150000
DTSTAMP:20260426T052846
CREATED:20230208T234026Z
LAST-MODIFIED:20230208T234026Z
UID:3441-1675952100-1675954800@feldaluiselatan.nadi.my
SUMMARY:BENGKEL APLIKASI INTERNET-PERMOHONAN TENDER
DESCRIPTION:
URL:https://feldaluiselatan.nadi.my/event/bengkel-aplikasi-internet-permohonan-tender/
LOCATION:PEDI Felda Lui Selatan\, PEDI Felda Lui Selatan
CATEGORIES:DEFAULT
END:VEVENT
BEGIN:VEVENT
DTSTART;TZID=UTC:20230206T150000
DTEND;TZID=UTC:20230206T163000
DTSTAMP:20260426T052846
CREATED:20230208T233935Z
LAST-MODIFIED:20230208T233935Z
UID:3440-1675695600-1675701000@feldaluiselatan.nadi.my
SUMMARY:BENGKEL KEUSAHAWANAN-PERMOHONAN TUNS
DESCRIPTION:
URL:https://feldaluiselatan.nadi.my/event/bengkel-keusahawanan-permohonan-tuns-2/
LOCATION:PEDI Felda Lui Selatan\, PEDI Felda Lui Selatan
CATEGORIES:DEFAULT
END:VEVENT
BEGIN:VEVENT
DTSTART;TZID=UTC:20230203T100000
DTEND;TZID=UTC:20230203T113000
DTSTAMP:20260426T052846
CREATED:20230203T233403Z
LAST-MODIFIED:20230203T233403Z
UID:3439-1675418400-1675423800@feldaluiselatan.nadi.my
SUMMARY:BENGKEL APLIKASI INTERNET-PENDAFTARAN TAHUN 1
DESCRIPTION:
URL:https://feldaluiselatan.nadi.my/event/bengkel-aplikasi-internet-pendaftaran-tahun-1/
LOCATION:PEDI Felda Lui Selatan\, PEDI Felda Lui Selatan
CATEGORIES:DEFAULT
END:VEVENT
BEGIN:VEVENT
DTSTART;TZID=UTC:20230130T150000
DTEND;TZID=UTC:20230130T160000
DTSTAMP:20260426T052846
CREATED:20230101T205454Z
LAST-MODIFIED:20230101T205454Z
UID:3438-1675090800-1675094400@feldaluiselatan.nadi.my
SUMMARY:BENGKEL KEUSAHAWANAN-PENDAFTARAN SSM
DESCRIPTION:
URL:https://feldaluiselatan.nadi.my/event/bengkel-keusahawanan-pendaftaran-ssm/
LOCATION:PEDI Felda Lui Selatan\, PEDI Felda Lui Selatan
CATEGORIES:DEFAULT
END:VEVENT
BEGIN:VEVENT
DTSTART;TZID=UTC:20230124T100000
DTEND;TZID=UTC:20230124T130000
DTSTAMP:20260426T052846
CREATED:20230101T205350Z
LAST-MODIFIED:20230101T205350Z
UID:3437-1674554400-1674565200@feldaluiselatan.nadi.my
SUMMARY:BENGKEL E-PEMBELAJARAN-BAHASA INGGERIS & MATEMATIK
DESCRIPTION:
URL:https://feldaluiselatan.nadi.my/event/bengkel-e-pembelajaran-bahasa-inggeris-matematik-2/
LOCATION:PEDI Felda Lui Selatan\, PEDI Felda Lui Selatan
CATEGORIES:DEFAULT
END:VEVENT
BEGIN:VEVENT
DTSTART;TZID=UTC:20230121T113000
DTEND;TZID=UTC:20230121T120000
DTSTAMP:20260426T052846
CREATED:20230101T205244Z
LAST-MODIFIED:20230101T205244Z
UID:3436-1674300600-1674302400@feldaluiselatan.nadi.my
SUMMARY:KLIK DENGAN BIJAK
DESCRIPTION:
URL:https://feldaluiselatan.nadi.my/event/klik-dengan-bijak-11/
LOCATION:PEDI Felda Lui Selatan\, PEDI Felda Lui Selatan
CATEGORIES:DEFAULT
END:VEVENT
BEGIN:VEVENT
DTSTART;TZID=UTC:20230113T103000
DTEND;TZID=UTC:20230113T113000
DTSTAMP:20260426T052846
CREATED:20230101T205128Z
LAST-MODIFIED:20230101T205128Z
UID:3435-1673605800-1673609400@feldaluiselatan.nadi.my
SUMMARY:BENGKEL APLIKASI INTERNET-PERKESO & KWSP
DESCRIPTION:
URL:https://feldaluiselatan.nadi.my/event/bengkel-aplikasi-internet-perkeso-kwsp/
LOCATION:PEDI Felda Lui Selatan\, PEDI Felda Lui Selatan
CATEGORIES:DEFAULT
END:VEVENT
BEGIN:VEVENT
DTSTART;TZID=UTC:20230106T100000
DTEND;TZID=UTC:20230106T110000
DTSTAMP:20260426T052846
CREATED:20230101T205007Z
LAST-MODIFIED:20230101T205007Z
UID:3434-1672999200-1673002800@feldaluiselatan.nadi.my
SUMMARY:ENGKEL APLIKASI INTERNET-PERBANKAN DALAM TALIAN (MAE)
DESCRIPTION:
URL:https://feldaluiselatan.nadi.my/event/engkel-aplikasi-internet-perbankan-dalam-talian-mae/
LOCATION:PEDI Felda Lui Selatan\, PEDI Felda Lui Selatan
CATEGORIES:DEFAULT
END:VEVENT
BEGIN:VEVENT
DTSTART;TZID=UTC:20230105T100000
DTEND;TZID=UTC:20230105T233000
DTSTAMP:20260426T052846
CREATED:20230101T204904Z
LAST-MODIFIED:20230101T204904Z
UID:3433-1672912800-1672961400@feldaluiselatan.nadi.my
SUMMARY:BENGKEL APLIKASI KOMPUTER-MICROSOFT POWER POINT
DESCRIPTION:
URL:https://feldaluiselatan.nadi.my/event/bengkel-aplikasi-komputer-microsoft-power-point-2/
LOCATION:PEDI Felda Lui Selatan\, PEDI Felda Lui Selatan
CATEGORIES:DEFAULT
END:VEVENT
BEGIN:VEVENT
DTSTART;TZID=UTC:20230103T100000
DTEND;TZID=UTC:20230103T113000
DTSTAMP:20260426T052846
CREATED:20230101T204809Z
LAST-MODIFIED:20230101T204809Z
UID:3432-1672740000-1672745400@feldaluiselatan.nadi.my
SUMMARY:BENGKEL APLIKASI KOMPUTER-MICROSOFT PUBLISHER
DESCRIPTION:
URL:https://feldaluiselatan.nadi.my/event/bengkel-aplikasi-komputer-microsoft-publisher-2/
LOCATION:PEDI Felda Lui Selatan\, PEDI Felda Lui Selatan
CATEGORIES:DEFAULT
END:VEVENT
BEGIN:VEVENT
DTSTART;TZID=UTC:20221226T100000
DTEND;TZID=UTC:20221226T110000
DTSTAMP:20260426T052846
CREATED:20221204T210147Z
LAST-MODIFIED:20221204T210147Z
UID:3431-1672048800-1672052400@feldaluiselatan.nadi.my
SUMMARY:KLIK DENGAN BIJAK
DESCRIPTION:
URL:https://feldaluiselatan.nadi.my/event/klik-dengan-bijak-10/
LOCATION:PEDI Felda Lui Selatan\, PEDI Felda Lui Selatan
CATEGORIES:DEFAULT
END:VEVENT
BEGIN:VEVENT
DTSTART;TZID=UTC:20221221T143000
DTEND;TZID=UTC:20221221T150000
DTSTAMP:20260426T052846
CREATED:20221204T205812Z
LAST-MODIFIED:20221204T205812Z
UID:3430-1671633000-1671634800@feldaluiselatan.nadi.my
SUMMARY:BENGKEL APLIKASI INTERNET-TRAVELOKA
DESCRIPTION:
URL:https://feldaluiselatan.nadi.my/event/bengkel-aplikasi-internet-traveloka/
LOCATION:PEDI Felda Lui Selatan\, PEDI Felda Lui Selatan
CATEGORIES:DEFAULT
END:VEVENT
BEGIN:VEVENT
DTSTART;TZID=UTC:20221215T150000
DTEND;TZID=UTC:20221215T160000
DTSTAMP:20260426T052846
CREATED:20221204T205712Z
LAST-MODIFIED:20221204T205712Z
UID:3429-1671116400-1671120000@feldaluiselatan.nadi.my
SUMMARY:BENGKEL APLIKASI INTERNET-CARUMAN KWSP &PERKESO
DESCRIPTION:
URL:https://feldaluiselatan.nadi.my/event/bengkel-aplikasi-internet-caruman-kwsp-perkeso/
LOCATION:PEDI Felda Lui Selatan\, PEDI Felda Lui Selatan
CATEGORIES:DEFAULT
END:VEVENT
BEGIN:VEVENT
DTSTART;TZID=UTC:20221209T100000
DTEND;TZID=UTC:20221209T113000
DTSTAMP:20260426T052846
CREATED:20221204T205606Z
LAST-MODIFIED:20221204T205606Z
UID:3428-1670580000-1670585400@feldaluiselatan.nadi.my
SUMMARY:BENGKEL APLIKASI INTERNET-SPA
DESCRIPTION:
URL:https://feldaluiselatan.nadi.my/event/bengkel-aplikasi-internet-spa/
LOCATION:PEDI Felda Lui Selatan\, PEDI Felda Lui Selatan
CATEGORIES:DEFAULT
END:VEVENT
BEGIN:VEVENT
DTSTART;TZID=UTC:20221205T100000
DTEND;TZID=UTC:20221205T115000
DTSTAMP:20260426T052846
CREATED:20221204T205349Z
LAST-MODIFIED:20221204T205349Z
UID:3427-1670234400-1670241000@feldaluiselatan.nadi.my
SUMMARY:BENGKEL APLIKASI KOMPUTER-MICROSOFT WORD
DESCRIPTION:
URL:https://feldaluiselatan.nadi.my/event/bengkel-aplikasi-komputer-microsoft-word-2/
LOCATION:PEDI Felda Lui Selatan\, PEDI Felda Lui Selatan
CATEGORIES:DEFAULT
END:VEVENT
BEGIN:VEVENT
DTSTART;TZID=UTC:20221203T100000
DTEND;TZID=UTC:20221203T123000
DTSTAMP:20260426T052846
CREATED:20221204T205156Z
LAST-MODIFIED:20221204T205156Z
UID:3426-1670061600-1670070600@feldaluiselatan.nadi.my
SUMMARY:BENGKEL E-PEMBELAJARAN-BAHASA INGGERIS/MATEMATIK
DESCRIPTION:
URL:https://feldaluiselatan.nadi.my/event/bengkel-e-pembelajaran-bahasa-inggeris-matematik/
LOCATION:PEDI Felda Lui Selatan\, PEDI Felda Lui Selatan
CATEGORIES:DEFAULT
END:VEVENT
BEGIN:VEVENT
DTSTART;TZID=UTC:20221028T143000
DTEND;TZID=UTC:20221028T153000
DTSTAMP:20260426T052846
CREATED:20221015T003706Z
LAST-MODIFIED:20221015T003706Z
UID:3425-1666967400-1666971000@feldaluiselatan.nadi.my
SUMMARY:BENGKEL KEUSAHAWANAN-CARUMAN KWSP & PERKESO
DESCRIPTION:
URL:https://feldaluiselatan.nadi.my/event/bengkel-keusahawanan-caruman-kwsp-perkeso/
LOCATION:PEDI Felda Lui Selatan\, PEDI Felda Lui Selatan
CATEGORIES:DEFAULT
END:VEVENT
BEGIN:VEVENT
DTSTART;TZID=UTC:20221022T103000
DTEND;TZID=UTC:20221022T113000
DTSTAMP:20260426T052846
CREATED:20221015T003624Z
LAST-MODIFIED:20221015T003624Z
UID:3424-1666434600-1666438200@feldaluiselatan.nadi.my
SUMMARY:BENGKEL APLIKASI INTERNET-PERBANKAN DALAM TALIAN
DESCRIPTION:
URL:https://feldaluiselatan.nadi.my/event/bengkel-aplikasi-internet-perbankan-dalam-talian-3/
LOCATION:PEDI Felda Lui Selatan\, PEDI Felda Lui Selatan
CATEGORIES:DEFAULT
END:VEVENT
BEGIN:VEVENT
DTSTART;TZID=UTC:20221015T153000
DTEND;TZID=UTC:20221015T163000
DTSTAMP:20260426T052846
CREATED:20221015T003521Z
LAST-MODIFIED:20221015T003521Z
UID:3423-1665847800-1665851400@feldaluiselatan.nadi.my
SUMMARY:BENGKEL APLIKASI INTERNET-E-JOB
DESCRIPTION:
URL:https://feldaluiselatan.nadi.my/event/bengkel-aplikasi-internet-e-job/
LOCATION:PEDI Felda Lui Selatan\, PEDI Felda Lui Selatan
CATEGORIES:DEFAULT
END:VEVENT
BEGIN:VEVENT
DTSTART;TZID=UTC:20221010T110000
DTEND;TZID=UTC:20221010T130000
DTSTAMP:20260426T052846
CREATED:20221015T003437Z
LAST-MODIFIED:20221015T003437Z
UID:3422-1665399600-1665406800@feldaluiselatan.nadi.my
SUMMARY:BENGKEL E-PEMBELAJARAN-MATEMATIK
DESCRIPTION:
URL:https://feldaluiselatan.nadi.my/event/bengkel-e-pembelajaran-matematik-20/
LOCATION:PEDI Felda Lui Selatan\, PEDI Felda Lui Selatan
CATEGORIES:DEFAULT
END:VEVENT
BEGIN:VEVENT
DTSTART;TZID=UTC:20221008T154500
DTEND;TZID=UTC:20221008T170000
DTSTAMP:20260426T052846
CREATED:20221005T204718Z
LAST-MODIFIED:20221005T204718Z
UID:3421-1665243900-1665248400@feldaluiselatan.nadi.my
SUMMARY:BENGKEL APLIKASI INTERNET-PUSAKA KECIL
DESCRIPTION:
URL:https://feldaluiselatan.nadi.my/event/bengkel-aplikasi-internet-pusaka-kecil/
LOCATION:PEDI Felda Lui Selatan\, PEDI Felda Lui Selatan
CATEGORIES:DEFAULT
END:VEVENT
BEGIN:VEVENT
DTSTART;TZID=UTC:20221007T100000
DTEND;TZID=UTC:20221007T113000
DTSTAMP:20260426T052846
CREATED:20221005T204604Z
LAST-MODIFIED:20221005T204604Z
UID:3420-1665136800-1665142200@feldaluiselatan.nadi.my
SUMMARY:BENGKEL KEUSAHAWAN-TIKTOK SHOP
DESCRIPTION:
URL:https://feldaluiselatan.nadi.my/event/bengkel-keusahawan-tiktok-shop/
LOCATION:PEDI Felda Lui Selatan\, PEDI Felda Lui Selatan
CATEGORIES:DEFAULT
END:VEVENT
BEGIN:VEVENT
DTSTART;TZID=UTC:20221004T100000
DTEND;TZID=UTC:20221004T120000
DTSTAMP:20260426T052846
CREATED:20221005T203805Z
LAST-MODIFIED:20221005T203805Z
UID:3419-1664877600-1664884800@feldaluiselatan.nadi.my
SUMMARY:BENGKEL APLIKASI KOMPUTER (MICROSOFT OFFICE)
DESCRIPTION:
URL:https://feldaluiselatan.nadi.my/event/bengkel-aplikasi-komputer-microsoft-office/
LOCATION:PEDI Felda Lui Selatan\, PEDI Felda Lui Selatan
CATEGORIES:DEFAULT
END:VEVENT
BEGIN:VEVENT
DTSTART;TZID=UTC:20220927T143000
DTEND;TZID=UTC:20220927T153000
DTSTAMP:20260426T052846
CREATED:20220903T195600Z
LAST-MODIFIED:20220903T195600Z
UID:3418-1664289000-1664292600@feldaluiselatan.nadi.my
SUMMARY:BENGKEL KEUSAHAWANAN-APLIKASI SHOPEE
DESCRIPTION:
URL:https://feldaluiselatan.nadi.my/event/bengkel-keusahawanan-aplikasi-shopee-4/
LOCATION:PEDI Felda Lui Selatan\, PEDI Felda Lui Selatan
CATEGORIES:DEFAULT
END:VEVENT
BEGIN:VEVENT
DTSTART;TZID=UTC:20220922T153000
DTEND;TZID=UTC:20220922T163000
DTSTAMP:20260426T052846
CREATED:20220903T195428Z
LAST-MODIFIED:20220903T195428Z
UID:3417-1663860600-1663864200@feldaluiselatan.nadi.my
SUMMARY:BENGKEL APLIKASI INTERNET-PERBANKAN DALAM TALIAN
DESCRIPTION:
URL:https://feldaluiselatan.nadi.my/event/bengkel-aplikasi-internet-perbankan-dalam-talian-2/
LOCATION:PEDI Felda Lui Selatan\, PEDI Felda Lui Selatan
CATEGORIES:DEFAULT
END:VEVENT
END:VCALENDAR