BEGIN:VCALENDAR
VERSION:2.0
PRODID:-//NADI Felda Lui Selatan - ECPv6.15.13.1//NONSGML v1.0//EN
CALSCALE:GREGORIAN
METHOD:PUBLISH
X-ORIGINAL-URL:https://feldaluiselatan.nadi.my
X-WR-CALDESC:Events for NADI Felda Lui Selatan
REFRESH-INTERVAL;VALUE=DURATION:PT1H
X-Robots-Tag:noindex
X-PUBLISHED-TTL:PT1H
BEGIN:VTIMEZONE
TZID:UTC
BEGIN:STANDARD
TZOFFSETFROM:+0000
TZOFFSETTO:+0000
TZNAME:UTC
DTSTART:20230101T000000
END:STANDARD
END:VTIMEZONE
BEGIN:VEVENT
DTSTART;TZID=UTC:20241017T100000
DTEND;TZID=UTC:20241017T130000
DTSTAMP:20260424T041335
CREATED:20241025T224058Z
LAST-MODIFIED:20241025T224058Z
UID:3714-1729159200-1729170000@feldaluiselatan.nadi.my
SUMMARY:TAKLIMAT NADI X MAHIR
DESCRIPTION:
URL:https://feldaluiselatan.nadi.my/event/taklimat-nadi-x-mahir/
LOCATION:NaDi FELDA LUI SELATAN
CATEGORIES:DEFAULT
END:VEVENT
BEGIN:VEVENT
DTSTART;TZID=UTC:20241019T093000
DTEND;TZID=UTC:20241019T140000
DTSTAMP:20260424T041335
CREATED:20241025T224318Z
LAST-MODIFIED:20241025T224318Z
UID:3715-1729330200-1729346400@feldaluiselatan.nadi.my
SUMMARY:PERTANDINGAN E-SPORT (MOBILE LEGEND)
DESCRIPTION:
URL:https://feldaluiselatan.nadi.my/event/pertandingan-e-sport-mobile-legend/
LOCATION:NaDi FELDA LUI SELATAN
CATEGORIES:DEFAULT
END:VEVENT
END:VCALENDAR