BEGIN:VCALENDAR
VERSION:2.0
PRODID:-//NADI Felda Lui Selatan - ECPv6.15.13.1//NONSGML v1.0//EN
CALSCALE:GREGORIAN
METHOD:PUBLISH
X-WR-CALNAME:NADI Felda Lui Selatan
X-ORIGINAL-URL:https://feldaluiselatan.nadi.my
X-WR-CALDESC:Events for NADI Felda Lui Selatan
REFRESH-INTERVAL;VALUE=DURATION:PT1H
X-Robots-Tag:noindex
X-PUBLISHED-TTL:PT1H
BEGIN:VTIMEZONE
TZID:UTC
BEGIN:STANDARD
TZOFFSETFROM:+0000
TZOFFSETTO:+0000
TZNAME:UTC
DTSTART:20230101T000000
END:STANDARD
END:VTIMEZONE
BEGIN:VEVENT
DTSTART;TZID=UTC:20241203T083000
DTEND;TZID=UTC:20241203T123000
DTSTAMP:20260423T092429
CREATED:20241217T013737Z
LAST-MODIFIED:20241217T013737Z
UID:3749-1733214600-1733229000@feldaluiselatan.nadi.my
SUMMARY:TAKLIMAT SEKOLAH
DESCRIPTION:
URL:https://feldaluiselatan.nadi.my/event/taklimat-sekolah/
END:VEVENT
BEGIN:VEVENT
DTSTART;TZID=UTC:20241205T150000
DTEND;TZID=UTC:20241205T170000
DTSTAMP:20260423T092429
CREATED:20241217T014331Z
LAST-MODIFIED:20241217T014331Z
UID:3751-1733410800-1733418000@feldaluiselatan.nadi.my
SUMMARY:NADI X WELLBEING (PROGRAM KE MASYARAKATAN KAMPUNG SG SAMPO)
DESCRIPTION:Program dijalankan  bersama penduduk Kg Sg Sampo. Tujuan program ini memberi pendedahan kesihatan dan MY ID Digital kepada masyarakat.
URL:https://feldaluiselatan.nadi.my/event/nadi-x-wellbeing-program-ke-masyarakatan-kampung-sg-sampo/
LOCATION:Kampung Sg Sampo
END:VEVENT
BEGIN:VEVENT
DTSTART;TZID=UTC:20241209T153000
DTEND;TZID=UTC:20241209T163000
DTSTAMP:20260423T092429
CREATED:20241217T014505Z
LAST-MODIFIED:20241217T014505Z
UID:3754-1733758200-1733761800@feldaluiselatan.nadi.my
SUMMARY:NADI DiLea (Matematik)
DESCRIPTION:
URL:https://feldaluiselatan.nadi.my/event/nadi-dilea-matematik/
LOCATION:NaDi FELDA LUI SELATAN
END:VEVENT
BEGIN:VEVENT
DTSTART;TZID=UTC:20241210T153000
DTEND;TZID=UTC:20241210T163000
DTSTAMP:20260423T092429
CREATED:20241217T014637Z
LAST-MODIFIED:20241217T014637Z
UID:3756-1733844600-1733848200@feldaluiselatan.nadi.my
SUMMARY:NADI DiLea (BAHASA MELAYU)
DESCRIPTION:
URL:https://feldaluiselatan.nadi.my/event/nadi-dilea-bahasa-melayu/
LOCATION:NaDi FELDA LUI SELATAN
END:VEVENT
BEGIN:VEVENT
DTSTART;TZID=UTC:20241217T093000
DTEND;TZID=UTC:20241218T153000
DTSTAMP:20260423T092429
CREATED:20241217T014807Z
LAST-MODIFIED:20241217T014904Z
UID:3758-1734427800-1734535800@feldaluiselatan.nadi.my
SUMMARY:KURSUS NADI MAHIR MASAK
DESCRIPTION:
URL:https://feldaluiselatan.nadi.my/event/kursus-nadi-mahir-masak/
LOCATION:FELDA LUI SELATAN\, NADI FELDA LUI SELATAN
END:VEVENT
BEGIN:VEVENT
DTSTART;TZID=UTC:20241219T100000
DTEND;TZID=UTC:20241219T123000
DTSTAMP:20260423T092429
CREATED:20241217T015153Z
LAST-MODIFIED:20241217T015153Z
UID:3761-1734602400-1734611400@feldaluiselatan.nadi.my
SUMMARY:BENGKEL KEUSAHAWANAN (FGV VENDOR LESEN)
DESCRIPTION:Program ini membantu para usahawan terutama kontraktor untuk mendaftar lesen FGV Vendor.
URL:https://feldaluiselatan.nadi.my/event/bengkel-keusahawanan-fgv-vendor-lesen/
LOCATION:FELDA LUI SELATAN\, NADI FELDA LUI SELATAN
END:VEVENT
BEGIN:VEVENT
DTSTART;TZID=UTC:20241221T100000
DTEND;TZID=UTC:20241221T110000
DTSTAMP:20260423T092429
CREATED:20241217T015828Z
LAST-MODIFIED:20241217T015828Z
UID:3763-1734775200-1734778800@feldaluiselatan.nadi.my
SUMMARY:TAKLIMAT SEKOLAH
DESCRIPTION:Taklimat dijalankan Sekolah Menengah Kebangsaan Lui Barat
URL:https://feldaluiselatan.nadi.my/event/taklimat-sekolah-2/
LOCATION:SEKOLAH MENENGAH KEBANGSAAN LUI BARAT
END:VEVENT
BEGIN:VEVENT
DTSTART;TZID=UTC:20241223T143000
DTEND;TZID=UTC:20241223T153000
DTSTAMP:20260423T092429
CREATED:20241217T020100Z
LAST-MODIFIED:20241217T020100Z
UID:3766-1734964200-1734967800@feldaluiselatan.nadi.my
SUMMARY:KURSUS NADI MAHIR (BAIKI GAJET)
DESCRIPTION:
URL:https://feldaluiselatan.nadi.my/event/kursus-nadi-mahir-baiki-gajet/
LOCATION:FELDA LUI SELATAN\, NADI FELDA LUI SELATAN
END:VEVENT
BEGIN:VEVENT
DTSTART;TZID=UTC:20241224T093000
DTEND;TZID=UTC:20241227T173000
DTSTAMP:20260423T092429
CREATED:20241217T020452Z
LAST-MODIFIED:20241217T020452Z
UID:3768-1735032600-1735320600@feldaluiselatan.nadi.my
SUMMARY:KURSUS MAHIR NADI MASAK
DESCRIPTION:
URL:https://feldaluiselatan.nadi.my/event/kursus-mahir-nadi-masak/
LOCATION:FELDA LUI SELATAN\, NADI FELDA LUI SELATAN
END:VEVENT
END:VCALENDAR