BEGIN:VCALENDAR
VERSION:2.0
PRODID:-//NADI Felda Lui Selatan - ECPv6.15.13.1//NONSGML v1.0//EN
CALSCALE:GREGORIAN
METHOD:PUBLISH
X-WR-CALNAME:NADI Felda Lui Selatan
X-ORIGINAL-URL:https://feldaluiselatan.nadi.my
X-WR-CALDESC:Events for NADI Felda Lui Selatan
REFRESH-INTERVAL;VALUE=DURATION:PT1H
X-Robots-Tag:noindex
X-PUBLISHED-TTL:PT1H
BEGIN:VTIMEZONE
TZID:UTC
BEGIN:STANDARD
TZOFFSETFROM:+0000
TZOFFSETTO:+0000
TZNAME:UTC
DTSTART:20240101T000000
END:STANDARD
END:VTIMEZONE
BEGIN:VEVENT
DTSTART;TZID=UTC:20250103T110000
DTEND;TZID=UTC:20250103T120000
DTSTAMP:20260422T144407
CREATED:20250103T204305Z
LAST-MODIFIED:20250103T204405Z
UID:3849-1735902000-1735905600@feldaluiselatan.nadi.my
SUMMARY:NADI MAHIR MASAK (MOCKTAIL)
DESCRIPTION:
URL:https://feldaluiselatan.nadi.my/event/nadi-mahir-masak-mocktail/
LOCATION:NaDi FELDA LUI SELATAN
END:VEVENT
BEGIN:VEVENT
DTSTART;TZID=UTC:20250104T100000
DTEND;TZID=UTC:20250104T123000
DTSTAMP:20260422T144407
CREATED:20250103T204714Z
LAST-MODIFIED:20250103T204714Z
UID:3852-1735984800-1735993800@feldaluiselatan.nadi.my
SUMMARY:BEGKEL APLIKASI INTERNET-MYLAND
DESCRIPTION:Program ini dijalankan untuk membantu pengunjung mengisi borang permohonan P di bawah akta Harta Pusaka 1955 secara atas talian.
URL:https://feldaluiselatan.nadi.my/event/begkel-aplikasi-internet-myland/
LOCATION:NaDi FELDA LUI SELATAN
END:VEVENT
BEGIN:VEVENT
DTSTART;TZID=UTC:20250106T143000
DTEND;TZID=UTC:20250106T153000
DTSTAMP:20260422T144407
CREATED:20250103T204922Z
LAST-MODIFIED:20250103T204922Z
UID:3854-1736173800-1736177400@feldaluiselatan.nadi.my
SUMMARY:MAHIR BAIKI GAJET
DESCRIPTION:
URL:https://feldaluiselatan.nadi.my/event/mahir-baiki-gajet/
LOCATION:NaDi FELDA LUI SELATAN
END:VEVENT
BEGIN:VEVENT
DTSTART;TZID=UTC:20250107T093000
DTEND;TZID=UTC:20250108T153000
DTSTAMP:20260422T144407
CREATED:20250103T205050Z
LAST-MODIFIED:20250103T205050Z
UID:3856-1736242200-1736350200@feldaluiselatan.nadi.my
SUMMARY:NADI MAHIR MASAK
DESCRIPTION:
URL:https://feldaluiselatan.nadi.my/event/nadi-mahir-masak/
END:VEVENT
BEGIN:VEVENT
DTSTART;TZID=UTC:20250110T093000
DTEND;TZID=UTC:20250110T123000
DTSTAMP:20260422T144407
CREATED:20250103T205356Z
LAST-MODIFIED:20250103T205356Z
UID:3858-1736501400-1736512200@feldaluiselatan.nadi.my
SUMMARY:TAKLIMAT BERSAMA NADI (SEKOLAH)
DESCRIPTION:
URL:https://feldaluiselatan.nadi.my/event/taklimat-bersama-nadi-sekolah/
END:VEVENT
BEGIN:VEVENT
DTSTART;TZID=UTC:20250113T143000
DTEND;TZID=UTC:20250113T153000
DTSTAMP:20260422T144407
CREATED:20250103T205450Z
LAST-MODIFIED:20250103T205450Z
UID:3860-1736778600-1736782200@feldaluiselatan.nadi.my
SUMMARY:MAHIR BAIKI GAJET
DESCRIPTION:
URL:https://feldaluiselatan.nadi.my/event/mahir-baiki-gajet-2/
END:VEVENT
BEGIN:VEVENT
DTSTART;TZID=UTC:20250115T143000
DTEND;TZID=UTC:20250117T123000
DTSTAMP:20260422T144407
CREATED:20250103T205547Z
LAST-MODIFIED:20250103T205618Z
UID:3862-1736951400-1737117000@feldaluiselatan.nadi.my
SUMMARY:NADI MAHIR MASAK
DESCRIPTION:
URL:https://feldaluiselatan.nadi.my/event/nadi-mahir-masak-2/
END:VEVENT
BEGIN:VEVENT
DTSTART;TZID=UTC:20250116T150000
DTEND;TZID=UTC:20250116T170000
DTSTAMP:20260422T144407
CREATED:20250103T205717Z
LAST-MODIFIED:20250103T205717Z
UID:3864-1737039600-1737046800@feldaluiselatan.nadi.my
SUMMARY:BENGKEL USAHAWAN -KWSP & PERKESO
DESCRIPTION:
URL:https://feldaluiselatan.nadi.my/event/bengkel-usahawan-kwsp-perkeso/
END:VEVENT
BEGIN:VEVENT
DTSTART;TZID=UTC:20250121T033000
DTEND;TZID=UTC:20250124T163000
DTSTAMP:20260422T144407
CREATED:20250104T002238Z
LAST-MODIFIED:20250104T002238Z
UID:3867-1737430200-1737736200@feldaluiselatan.nadi.my
SUMMARY:NADI X DILEA
DESCRIPTION:
URL:https://feldaluiselatan.nadi.my/event/nadi-x-dilea/
END:VEVENT
BEGIN:VEVENT
DTSTART;TZID=UTC:20250124T110000
DTEND;TZID=UTC:20250124T120000
DTSTAMP:20260422T144407
CREATED:20250104T002521Z
LAST-MODIFIED:20250104T002521Z
UID:3869-1737716400-1737720000@feldaluiselatan.nadi.my
SUMMARY:NADI MAHIR MASAK
DESCRIPTION:
URL:https://feldaluiselatan.nadi.my/event/nadi-mahir-masak-3/
END:VEVENT
END:VCALENDAR