BEGIN:VCALENDAR
VERSION:2.0
PRODID:-//NADI Felda Lui Selatan - ECPv6.15.13.1//NONSGML v1.0//EN
CALSCALE:GREGORIAN
METHOD:PUBLISH
X-ORIGINAL-URL:https://feldaluiselatan.nadi.my
X-WR-CALDESC:Events for NADI Felda Lui Selatan
REFRESH-INTERVAL;VALUE=DURATION:PT1H
X-Robots-Tag:noindex
X-PUBLISHED-TTL:PT1H
BEGIN:VTIMEZONE
TZID:Asia/Kuala_Lumpur
BEGIN:STANDARD
TZOFFSETFROM:+0800
TZOFFSETTO:+0800
TZNAME:+08
DTSTART:20240101T000000
END:STANDARD
END:VTIMEZONE
BEGIN:VEVENT
DTSTART;TZID=Asia/Kuala_Lumpur:20250408T093000
DTEND;TZID=Asia/Kuala_Lumpur:20250411T123000
DTSTAMP:20260421T014056
CREATED:20250408T074951Z
LAST-MODIFIED:20250408T080839Z
UID:4074-1744104600-1744374600@feldaluiselatan.nadi.my
SUMMARY:Mahir Masak
DESCRIPTION:
URL:https://feldaluiselatan.nadi.my/event/mahir-masak/
LOCATION:FELDA LUI SELATAN\, NADI FELDA LUI SELATAN
END:VEVENT
BEGIN:VEVENT
DTSTART;TZID=Asia/Kuala_Lumpur:20250408T103000
DTEND;TZID=Asia/Kuala_Lumpur:20250408T113000
DTSTAMP:20260421T014056
CREATED:20250408T081103Z
LAST-MODIFIED:20250408T081113Z
UID:4077-1744108200-1744111800@feldaluiselatan.nadi.my
SUMMARY:Wellbeing Webinar- Sindrom Ovari Polisistik
DESCRIPTION:
URL:https://feldaluiselatan.nadi.my/event/wellbeing-webinar-sindrom-ovari-polisistik/
LOCATION:FELDA LUI SELATAN\, NADI FELDA LUI SELATAN
END:VEVENT
BEGIN:VEVENT
DTSTART;TZID=Asia/Kuala_Lumpur:20250412T140000
DTEND;TZID=Asia/Kuala_Lumpur:20250412T160000
DTSTAMP:20260421T014056
CREATED:20250408T082045Z
LAST-MODIFIED:20250408T082045Z
UID:4085-1744466400-1744473600@feldaluiselatan.nadi.my
SUMMARY:Tips untuk Content Creator
DESCRIPTION:
URL:https://feldaluiselatan.nadi.my/event/tips-untuk-content-creator/
LOCATION:FELDA LUI SELATAN\, NADI FELDA LUI SELATAN
END:VEVENT
BEGIN:VEVENT
DTSTART;TZID=Asia/Kuala_Lumpur:20250412T143000
DTEND;TZID=Asia/Kuala_Lumpur:20250412T163000
DTSTAMP:20260421T014056
CREATED:20250408T081446Z
LAST-MODIFIED:20250408T081446Z
UID:4082-1744468200-1744475400@feldaluiselatan.nadi.my
SUMMARY:Webinar Berkala Sejarah
DESCRIPTION:
URL:https://feldaluiselatan.nadi.my/event/webinar-berkala-sejarah/
LOCATION:FELDA LUI SELATAN\, NADI FELDA LUI SELATAN
END:VEVENT
BEGIN:VEVENT
DTSTART;TZID=Asia/Kuala_Lumpur:20250422T153000
DTEND;TZID=Asia/Kuala_Lumpur:20250425T163000
DTSTAMP:20260421T014056
CREATED:20250424T082038Z
LAST-MODIFIED:20250424T082038Z
UID:4130-1745335800-1745598600@feldaluiselatan.nadi.my
SUMMARY:LIVE CLASS (BAHASA MELAYU/ BAHASA INGGERIS/ MATEMATIK/ SEJARAH)
DESCRIPTION:
URL:https://feldaluiselatan.nadi.my/event/live-class-bahasa-melayu-bahasa-inggeris-matematik-sejarah/
END:VEVENT
BEGIN:VEVENT
DTSTART;TZID=Asia/Kuala_Lumpur:20250427T100000
DTEND;TZID=Asia/Kuala_Lumpur:20250427T170000
DTSTAMP:20260421T014056
CREATED:20250424T084925Z
LAST-MODIFIED:20250424T084925Z
UID:4132-1745748000-1745773200@feldaluiselatan.nadi.my
SUMMARY:PRORGRAM E-SPORT
DESCRIPTION:
URL:https://feldaluiselatan.nadi.my/event/prorgram-e-sport/
END:VEVENT
END:VCALENDAR